BEGIN:VCALENDAR
VERSION:2.0
PRODID:-//ChamberMaster//Event Calendar 2.0//EN
METHOD:PUBLISH
X-PUBLISHED-TTL:P3D
REFRESH-INTERVAL:P3D
CALSCALE:GREGORIAN
BEGIN:VEVENT
DTSTART;VALUE=DATE:20230411
DTEND;VALUE=DATE:20230412
TRANSP:TRANSPARENT
X-MICROSOFT-CDO-ALLDAYEVENT:TRUE
SUMMARY:2023 ReLaunch Job Fair (Spring)
DESCRIPTION:The Huntsville/Madison County Chamber is collaborating with the local Alabama Career Center\, the Alabama Community College System\, local nonprofits\, and community agencies to help bridge the gap between under-resourced job seekers and our employers.\n\n\n\nThe ReLaunch Job Fair will provide opportunities for individuals who are changing careers\, unemployed\, underemployed\, who have not completed high school\, or are seeking a second career chance.\n\n\n\nOur mission is to assist our local companies in finding capable workers and to empower members of our community by improving their quality of life and financial stability.\n\n\n\nEvent is free to all job seekers (registration not required).\n\n\n\nEmployer registration fee includes:\n\n	(1) Table + (2) Chairs\n	(2) Company Representatives\n	Refreshments\n\n\n\nRegistered Employers:\n\n\n	Ability Plus\, Inc.\n	Air Essentials\, Inc.\n	Alabama Credit Union\n	Alabama National Guard\n	Army & Air Force Exchange Service\n	Atrium Hospitality\n	Available Plastics\, Inc.\n	BOCAR US\n	Boys & Girls Clubs of North Alabama\n	Capital Management Services (CMS)\n	Cintas Corporation\n	Crestwood Medical Center\n	GigaParts\, Inc.\n	GTEC\n	Gulf Distributing Co. of Alabama\n	Heart of the Valley YMCA\n	Home Instead Senior Care\n	Huntsville Botanical Garden\n	Huntsville Hospital\n	Huntsville/Madison County Convention & Visitors Bureau\n	Lincoln Property Company\n	LSINC Corporation\n	Madison City Schools\n	Madison County Commission\n	Mazda Toyota Manufacturing (MTM)\n	McGriff Tire Company\n	NMR Consulting\n	Right at Home\n	The Arc of Madison County\, Inc.\n	The University of Alabama in Huntsville\n	U.S. Space & Rocket Center\n	Wellstone\, Inc.\n	Wiregrass Construction Company\n	Yedla Management Company\n	ZLA Solutions\, Inc.
X-ALT-DESC;FMTTYPE=text/html:<span style="font-size: 16px\;">The Huntsville/Madison County Chamber is collaborating with the local Alabama Career Center\, the Alabama Community College System\, local nonprofits\, and community agencies to help bridge the gap between under-resourced job seekers and our employers.<br />\n<br />\nThe&nbsp\;<strong>ReLaunch Job Fair</strong>&nbsp\;will provide opportunities for individuals who are changing careers\, unemployed\, underemployed\, who have not completed high school\, or are seeking a second career chance.<br />\n<br />\nOur mission is to assist our local companies in finding capable workers and to empower members of our community by improving their quality of life and financial stability.<br />\n<br />\n<strong>Event is free to all job seekers</strong>&nbsp\;(registration not required).<br />\n<br />\nEmployer registration fee includes:</span>\n<ul>\n	<li><span style="font-size: 16px\;"><span style="font-size: 14px\;">(1) Table + (2) Chairs</span></span></li>\n	<li><span style="font-size: 14px\;">(2)&nbsp\;Company Representatives</span></li>\n	<li><span style="font-size: 14px\;">Refreshments</span></li>\n</ul>\n<br />\n<span style="font-size:16px\;">Registered Employers:</span>\n\n<ul>\n	<li><span style="font-size:14px\;">Ability Plus\, Inc.</span></li>\n	<li><span style="font-size:14px\;">Air Essentials\, Inc.</span></li>\n	<li><span style="font-size:14px\;">Alabama Credit Union</span></li>\n	<li><span style="font-size:14px\;">Alabama National Guard</span></li>\n	<li><span style="font-size:14px\;">Army &amp\; Air Force Exchange Service</span></li>\n	<li><span style="font-size:14px\;">Atrium Hospitality</span></li>\n	<li><span style="font-size:14px\;">Available Plastics\, Inc.</span></li>\n	<li><span style="font-size:14px\;">BOCAR US</span></li>\n	<li><span style="font-size:14px\;">Boys &amp\; Girls Clubs of North Alabama</span></li>\n	<li><span style="font-size:14px\;">Capital Management Services (CMS)</span></li>\n	<li><span style="font-size:14px\;">Cintas Corporation</span></li>\n	<li><span style="font-size:14px\;">Crestwood Medical Center</span></li>\n	<li><span style="font-size:14px\;">GigaParts\, Inc.</span></li>\n	<li><span style="font-size:14px\;">GTEC</span></li>\n	<li><span style="font-size:14px\;">Gulf Distributing Co. of Alabama</span></li>\n	<li><span style="font-size:14px\;">Heart of the Valley YMCA</span></li>\n	<li><span style="font-size:14px\;">Home Instead Senior Care</span></li>\n	<li><span style="font-size:14px\;">Huntsville Botanical Garden</span></li>\n	<li><span style="font-size:14px\;">Huntsville Hospital</span></li>\n	<li><span style="font-size:14px\;">Huntsville/Madison County Convention &amp\; Visitors Bureau</span></li>\n	<li><span style="font-size:14px\;">Lincoln Property Company</span></li>\n	<li><span style="font-size:14px\;">LSINC Corporation</span></li>\n	<li><span style="font-size:14px\;">Madison City Schools</span></li>\n	<li><span style="font-size:14px\;">Madison County Commission</span></li>\n	<li><span style="font-size:14px\;">Mazda Toyota Manufacturing (MTM)</span></li>\n	<li><span style="font-size:14px\;">McGriff Tire Company</span></li>\n	<li><span style="font-size:14px\;">NMR Consulting</span></li>\n	<li><span style="font-size:14px\;">Right at Home</span></li>\n	<li><span style="font-size:14px\;">The Arc of Madison County\, Inc.</span></li>\n	<li><span style="font-size:14px\;">The University of Alabama in Huntsville</span></li>\n	<li><span style="font-size:14px\;">U.S. Space &amp\; Rocket Center</span></li>\n	<li><span style="font-size:14px\;">Wellstone\, Inc.</span></li>\n	<li><span style="font-size:14px\;">Wiregrass Construction Company</span></li>\n	<li><span style="font-size:14px\;">Yedla Management Company</span></li>\n	<li><span style="font-size:14px\;">ZLA Solutions\, Inc.</span></li>\n</ul>\n
LOCATION:First Baptist Church of Huntsville Entrance #7 - St. Clair Ave across from the Huntsville/Madison County Public Library
UID:e.2112.13499
SEQUENCE:3
DTSTAMP:20260422T021214Z
URL:https://cm.hsvchamber.org/events/details/2023-relaunch-job-fair-spring-13499
END:VEVENT

END:VCALENDAR
