BEGIN:VCALENDAR
VERSION:2.0
PRODID:-//ChamberMaster//Event Calendar 2.0//EN
METHOD:PUBLISH
X-PUBLISHED-TTL:P3D
REFRESH-INTERVAL:P3D
CALSCALE:GREGORIAN
BEGIN:VEVENT
DTSTART:20230822T200000Z
DTEND:20230822T210000Z
X-MICROSOFT-CDO-ALLDAYEVENT:FALSE
SUMMARY:2023 New Chamber Member Orientation (Aug)
DESCRIPTION:Welcome to our New Members\n\nNow that you're a member\, have you ever wondered what's next?\n\n\n\nAttend our New Chamber Member Orientation and learn more about the Features & Benefits of your membership. Also\, learn how to utilize the Member Information Center and take advantage of ALL your membership has to offer.
X-ALT-DESC;FMTTYPE=text/html:<span style="font-size: 16px\;"><span style="font-size: 24px\;"><span style="color: rgb(252\, 89\, 58)\;">Welcome to our New Members</span></span><br />\nNow that you&#39\;re a member\, have you ever wondered what&#39\;s next?<br />\n<br />\nAttend our New Chamber Member Orientation and learn more about the&nbsp\;<strong>Features &amp\; Benefits</strong>&nbsp\;of your membership. Also\, learn how to utilize the&nbsp\;<strong>Member Information Center&nbsp\;</strong>and take advantage of ALL your membership has to offer.</span><br />\n&nbsp\;
LOCATION:Chamber Auditorium
UID:e.2112.14434
SEQUENCE:3
DTSTAMP:20260424T015652Z
URL:https://cm.hsvchamber.org/events/details/2023-new-chamber-member-orientation-aug-14434
END:VEVENT

END:VCALENDAR
