BEGIN:VCALENDAR
VERSION:2.0
PRODID:-//ChamberMaster//Event Calendar 2.0//EN
METHOD:PUBLISH
X-PUBLISHED-TTL:P3D
REFRESH-INTERVAL:P3D
CALSCALE:GREGORIAN
BEGIN:VEVENT
DTSTART:20230418T140000Z
DTEND:20230418T153000Z
X-MICROSOFT-CDO-ALLDAYEVENT:FALSE
SUMMARY:2023 Marketing for Small Business
DESCRIPTION:Join us as we tackle the Pie Chart of marketing! With support from Flourish Consulting\, the Chamber will host a panel of professionals in the field of marketing to share their perspectives\, and answer your questions about the most effective ways to  market your business.\n\n \n\nWhat do we mean by the most effective ways? We mean\, your website and how to make it work for you vs. against you. We mean content creation\, digital and social media strategy\, brand enhancement\, public relations and establishing thought leadership within your industry\, and experiential branding\, which helps your brand permeate EVERYTHING you do   from interior design\, to textile selection in your store/office/boutique\, and so much more!\n\n \n\nOur panelists will provide quantifiable recommendations that you can begin implementing right away\, and offer some creative tactics to grow your business without breaking your budget.\n\n\n\nPanelists include:\n\n	Lauren Gowins\, owner\, Bold Agency\n	Britt Silcox\, owner\, Bright Eyed Brands\n	Megan Nivens-Tannett\, CEO & founder\, Flourish Consulting Services\n	Amy McWilliams\, owner/president\, McWilliams Marketing
X-ALT-DESC;FMTTYPE=text/html:<span style="font-size:16px\;">Join us as we tackle the Pie Chart of marketing! With support from Flourish Consulting\, the Chamber will host a panel of professionals in the field of marketing to share their perspectives\, and answer your questions about the most effective ways to&nbsp\; market your business.<br />\n&nbsp\;<br />\nWhat do we mean by <em>the most effective ways</em>? We mean\, your website and how to make it work for you vs. against you. We mean content creation\, digital and social media strategy\, brand enhancement\, public relations and establishing thought leadership within your industry\, and experiential branding\, which helps your brand permeate EVERYTHING you do &ndash\; from interior design\, to textile selection in your store/office/boutique\, and so much more!<br />\n&nbsp\;<br />\nOur panelists will provide quantifiable recommendations that you can begin implementing right away\, and offer some creative tactics to grow your business without breaking your budget.<br />\n<br />\nPanelists include:</span>\n<ul>\n	<li><span style="font-size:16px\;"><b>Lauren Gowins</b>\, owner\, <a href="https://theboldagency.co/">Bold Agency</a></span></li>\n	<li><span style="font-size:16px\;"><strong>Britt Silcox</strong>\, owner\, <a href="https://brighteyedbrands.com/">Bright Eyed Brands</a></span></li>\n	<li><span style="font-size:16px\;"><strong>Megan Nivens-Tannett</strong>\, CEO &amp\; founder\, <a href="https://www.flourishconsultingservices.com/">Flourish Consulting Services</a></span></li>\n	<li><span style="font-size:16px\;"><strong>Amy McWilliams</strong>\, owner/president\, <a href="https://mcwilliamsmarketing.com/">McWilliams Marketing</a></span></li>\n</ul>\n
LOCATION:
UID:e.2112.13556
SEQUENCE:3
DTSTAMP:20260423T214908Z
URL:https://cm.hsvchamber.org/events/details/2023-marketing-for-small-business-13556
END:VEVENT

END:VCALENDAR
