BEGIN:VCALENDAR
VERSION:2.0
PRODID:-//ChamberMaster//Event Calendar 2.0//EN
METHOD:PUBLISH
X-PUBLISHED-TTL:P3D
REFRESH-INTERVAL:P3D
CALSCALE:GREGORIAN
BEGIN:VEVENT
DTSTART:20230614T210000Z
DTEND:20230614T230000Z
X-MICROSOFT-CDO-ALLDAYEVENT:FALSE
SUMMARY:2023 GO Rocket City! Get Onboard Intern Service Event
DESCRIPTION:We're excited for our early talent to Get Onboard in the Rocket City! As part of a summer-long program\, this service event is an opportunity for summer interns and co-op students to give back to the community through partnership with United Way of Madison County.\n\n\n\nIn partnership with FuelAL and Innovate Alabama\, GO Rocket City! Get Onboard offers summer interns and co-op students a series of events to connect with one another while learning more about our community and the career opportunities available to them. \n\n\n\nThere is no cost to attend. Registration is required. Click HERE to register by Tuesday\, June 13.
X-ALT-DESC;FMTTYPE=text/html:<span style="font-family:arial\;"><span style="font-size: 16px\;">We&#39\;re excited for our early talent to&nbsp\;<span style="color: rgb(233\, 120\, 36)\;"><strong>Get Onboard</strong></span>&nbsp\;in the Rocket City! As part of a summer-long program\, this service event is an opportunity for summer interns and co-op students to give back to the community through partnership with <strong>United Way of Madison County</strong>.<br />\n<br />\nIn partnership with&nbsp\;<a href="https://www.fuelalabama.org/">FuelAL</a>&nbsp\;and&nbsp\;<a href="https://innovatealabama.org/">Innovate Alabama</a>\, GO Rocket City! Get Onboard offers summer interns and co-op students a series of events to connect with one another while learning more about our community and the career opportunities available to them.&nbsp\;<br />\n<br />\nThere is no cost to attend. Registration is required. Click <a href="http://forms.gle/4MzimzbiyxD5uyyz6"><strong>HERE</strong></a> to register by Tuesday\, June 13.</span></span><br />\n&nbsp\;
LOCATION:Huntsville/Madison County Chamber
UID:e.2112.15475
SEQUENCE:3
DTSTAMP:20260423T230204Z
URL:https://cm.hsvchamber.org/events/details/2023-go-rocket-city-get-onboard-intern-service-event-15475
END:VEVENT

END:VCALENDAR
