BEGIN:VCALENDAR
VERSION:2.0
PRODID:-//ChamberMaster//Event Calendar 2.0//EN
METHOD:PUBLISH
X-PUBLISHED-TTL:P3D
REFRESH-INTERVAL:P3D
CALSCALE:GREGORIAN
BEGIN:VEVENT
DTSTART:20230621T163000Z
DTEND:20230621T180000Z
X-MICROSOFT-CDO-ALLDAYEVENT:FALSE
SUMMARY:2023 GO Rocket City! Get Onboard Intern Lunch & Learn
DESCRIPTION:We're excited for our early talent to Get Onboard in the Rocket City! As part of a summer-long program\, this Lunch & Learn event offers summer interns and co-op students the opportunity to hear from Jillian Miles Massey\, talent management consultant with Horizon Point Consulting\, as she shares her expertise and best practices for professional networking and communication.\n\n\n\nIn partnership with FuelAL and Innovate Alabama\, GO Rocket City! Get Onboard offers summer interns and co-op students a series of events to connect with one another while learning more about our community and the career opportunities available to them.\n\n\n\nThere is no cost to attend. Registration is required. Click HERE to register by Monday\, June 19.
X-ALT-DESC;FMTTYPE=text/html:<span style="font-size:16px\;">We&#39\;re excited for our early talent to <span style="color:#ea7600\;"><strong>Get Onboard</strong></span> in the Rocket City! As part of a summer-long program\, this Lunch &amp\; Learn event offers summer interns and co-op students the opportunity to hear from Jillian Miles Massey\, talent management consultant with Horizon Point Consulting\, as she shares her expertise and best practices for professional networking and communication.<br />\n<br />\nIn partnership with </span><span style="font-family:arial\;"><span style="color: rgb(98\, 98\, 98)\; font-size: 16px\;"><a href="https://www.fuelalabama.org/">FuelAL</a>&nbsp\;</span></span><span style="font-size:16px\;">and</span><span style="font-family:arial\;"><span style="color: rgb(98\, 98\, 98)\; font-size: 16px\;"> <a href="https://innovatealabama.org/">Innovate Alabama</a></span></span><span style="font-size:16px\;">\, GO Rocket City! Get Onboard offers summer interns and co-op students a series of events to connect with one another while learning more about our community and the career opportunities available to them.<br />\n<br />\nThere is no cost to attend. Registration is required. Click <a href="http://forms.gle/8LdbAqwXyrpHstA9A"><span style="color:#ea7600\;"><strong>HERE</strong></span></a> to register by Monday\, June 19.</span><br />\n&nbsp\;
LOCATION:Huntsville/Madison County Chamber
UID:e.2112.15476
SEQUENCE:3
DTSTAMP:20260423T230206Z
URL:https://cm.hsvchamber.org/events/details/2023-go-rocket-city-get-onboard-intern-lunch-learn-15476
END:VEVENT

END:VCALENDAR
