BEGIN:VCALENDAR
VERSION:2.0
PRODID:-//ChamberMaster//Event Calendar 2.0//EN
METHOD:PUBLISH
X-PUBLISHED-TTL:P3D
REFRESH-INTERVAL:P3D
CALSCALE:GREGORIAN
BEGIN:VEVENT
DTSTART:20230608T220000Z
DTEND:20230609T000000Z
X-MICROSOFT-CDO-ALLDAYEVENT:FALSE
SUMMARY:2023 GO Rocket City! Get Onboard Intern Kick-off Mixer
DESCRIPTION:We're excited for our early talent to Get Onboard in the Rocket City! This kick-off mixer is an opportunity to engage and retain our summer interns and co-op students. Guests will hear from City of Madison Mayor Paul Finley\, along with Chamber Board Young Professionals Sharn  Rice\, Lead Systems Engineer for PM SHIELD of the U.S. Army\, and Collin Orcutt\, Huntsville Market Lead for Schoel Engineering.\n\n\n\nIn partnership with FuelAL and Innovate Alabama\, this is the first in a series of events to allow students to connect with one another while learning more about our community and the career opportunities available to them. \n\n\n\nThere is no cost to attend. Registration is required. Click here to register by Wednesday\, June 7.
X-ALT-DESC;FMTTYPE=text/html:<span style="font-family:arial\;"><span style="font-size:16px\;">We&#39\;re excited for our early talent to <span style="color:#e97824\;"><strong>Get Onboard</strong></span> in the Rocket City! This kick-off mixer is an opportunity to engage and retain our summer interns and co-op students. Guests will hear from City of Madison Mayor Paul Finley\, along with Chamber Board Young Professionals&nbsp\;</span><span style="font-size:16px\;">Sharn&eacute\; Rice\, Lead Systems Engineer for PM SHIELD of the U.S. Army\, and Collin Orcutt\, Huntsville Market Lead for Schoel Engineering.</span><br />\n<br />\n<span style="font-size:16px\;">In partnership with <a href="https://www.fuelalabama.org/">FuelAL</a> and <a href="https://innovatealabama.org/">Innovate Alabama</a>\, this is the first in a series of events to allow students to connect with one another while learning more about our community and the career opportunities available to them.&nbsp\;<br />\n<br />\nThere is no cost to attend. Registration is required. Click <a href="https://forms.office.com/r/JK3V6UAnA1"><strong>here</strong> </a>to register by Wednesday\, June 7.</span></span><br />\n&nbsp\;
LOCATION:The Lost Highway Lounge @ Yellowhammer Brewing\, Inc.
UID:e.2112.15474
SEQUENCE:3
DTSTAMP:20260423T230334Z
URL:https://cm.hsvchamber.org/events/details/2023-go-rocket-city-get-onboard-intern-kick-off-mixer-15474
END:VEVENT

END:VCALENDAR
