BEGIN:VCALENDAR
VERSION:2.0
PRODID:-//ChamberMaster//Event Calendar 2.0//EN
METHOD:PUBLISH
X-PUBLISHED-TTL:P3D
REFRESH-INTERVAL:P3D
CALSCALE:GREGORIAN
BEGIN:VEVENT
DTSTART:20230719T220000Z
DTEND:20230720T000000Z
X-MICROSOFT-CDO-ALLDAYEVENT:FALSE
SUMMARY:2023 Business After Hours (July)
DESCRIPTION:People do business with people they know\, and there's no better way to get to know other professionals than by attending a Business After Hours!\n\n\n\nThis month's event will be hosted by the Huntsville Botanical Garden during the Golden Hour\, where attendees will have the opportunity to build a network\, share ideas and connect with other business professionals while enjoying delicious food\, drink\, and some live music! We are thrilled to offer this experience and can't wait to see you there!\n\n\n\nWith one of the greatest draws to these networking events being the opportunity to meet new professionals\, we encourage you to bring a friend and PLENTY of business cards!
X-ALT-DESC;FMTTYPE=text/html:<span style="font-size:16px\;">People do business with people they know\, and there&rsquo\;s no better way to get to know other professionals than by attending a <strong>Business After Hours</strong>!<br />\n<br />\nThis month&rsquo\;s event will be hosted by the Huntsville Botanical Garden during the Golden Hour\, where attendees will have the opportunity to build a network\, share ideas and connect with other business professionals while enjoying delicious food\, drink\, and some live music! We are thrilled to offer this experience and can&rsquo\;t wait to see you there!<br />\n<br />\nWith one of the greatest draws to these networking events being the opportunity to meet new professionals\, we encourage you to bring a friend and <span style="color:#e2296d\;"><strong>PLENTY</strong></span> of business cards!</span><br />\n&nbsp\;
LOCATION:Huntsville Botanical Garden Carriage House
UID:e.2112.13442
SEQUENCE:3
DTSTAMP:20260424T003714Z
URL:https://cm.hsvchamber.org/events/details/2023-business-after-hours-july-13442
END:VEVENT

END:VCALENDAR
