BEGIN:VCALENDAR
VERSION:2.0
PRODID:-//ChamberMaster//Event Calendar 2.0//EN
METHOD:PUBLISH
X-PUBLISHED-TTL:P3D
REFRESH-INTERVAL:P3D
CALSCALE:GREGORIAN
BEGIN:VEVENT
DTSTART:20230209T230000Z
DTEND:20230210T010000Z
X-MICROSOFT-CDO-ALLDAYEVENT:FALSE
SUMMARY:2023 Business After Hours (Feb.)
DESCRIPTION:People do business with people they know\, and there's no better way to get to know other professionals than by attending a Business After Hours! Attendees have the opportunity to build a network\, share common challenges\, ideas and solutions\, and connect with other local business professionals over a drink and light hors d'oeuvres.\n\n\n\nThis month's After Hours will be hosted at the Huntsville Symphony Orchestra (HSO). Attendees will get to go backstage\, meet the conductor\, and hear from some of the incredibly talented musicians playing in Huntsville for HSO. We are thrilled to offer this experience and can't wait to see you there!\n\n\n\nWith one of the greatest draws to these networking events being the opportunity to meet new professionals\, we encourage you to bring a friend and PLENTY of business cards!
X-ALT-DESC;FMTTYPE=text/html:<span style="font-size:16px\;">People do business with people they know\, and there&rsquo\;s no better way to get to know other professionals than by attending a <strong>Business After Hours</strong>! Attendees have the opportunity to build a network\, share common challenges\, ideas and solutions\, and connect with other local business professionals over a drink and light hors d&rsquo\;oeuvres.<br />\n<br />\nThis month&rsquo\;s <em>After Hours</em> will be hosted at the Huntsville Symphony Orchestra (HSO). Attendees will get to go backstage\, meet the conductor\, and hear from some of the incredibly talented musicians playing in Huntsville for HSO. We are thrilled to offer this experience and can&rsquo\;t wait to see you there!<br />\n<br />\nWith one of the greatest draws to these networking events being the opportunity to meet new professionals\, we encourage you to bring a friend and <span style="color:#e5286c\;"><strong>PLENTY</strong></span> of business cards!&nbsp\; </span><br />\n&nbsp\;
LOCATION:Huntsville Symphony Orchestra
UID:e.2112.13438
SEQUENCE:3
DTSTAMP:20260423T190029Z
URL:https://cm.hsvchamber.org/events/details/2023-business-after-hours-feb-13438
END:VEVENT

END:VCALENDAR
