BEGIN:VCALENDAR
VERSION:2.0
PRODID:-//ChamberMaster//Event Calendar 2.0//EN
METHOD:PUBLISH
X-PUBLISHED-TTL:P3D
REFRESH-INTERVAL:P3D
CALSCALE:GREGORIAN
BEGIN:VEVENT
DTSTART:20230907T220000Z
DTEND:20230908T000000Z
X-MICROSOFT-CDO-ALLDAYEVENT:FALSE
SUMMARY:2023 Business After Hours at Joe Davis Stadium (Sept)
DESCRIPTION:People do business with people they know\, and there's no better way to get to know other professionals than by attending a Business After Hours!\n\n\n\nThis month's event will be hosted at Joe Davis Stadium\, home of the Huntsville City Football Club! Attendees will gather at the Yellowhammer Craft Beer Garden to enjoy food and drink while building their network\, sharing ideas\, and connecting with other business professionals. We are thrilled to offer this experience and can't wait to see you there!\n\n\n\nWith one of the greatest draws to these networking events being the opportunity to meet new professionals\, we encourage you to bring a friend and PLENTY of business cards!\n\n\n\nFor entry and parking\, please enter through Gate 1.
X-ALT-DESC;FMTTYPE=text/html:<span style="font-size:16px\;">People do business with people they know\, and there&rsquo\;s no better way to get to know other professionals than by attending a <strong>Business After Hours</strong>!<br />\n<br />\nThis month&rsquo\;s event will be hosted at <strong>Joe Davis Stadium</strong>\, home of the Huntsville City Football Club! Attendees will gather at the <span style="color:#357afb\;">Yellowhammer Craft Beer Garden</span> to enjoy food and drink while building their network\, sharing ideas\, and connecting with other business professionals. We are thrilled to offer this experience and can&rsquo\;t wait to see you there!<br />\n<br />\nWith one of the greatest draws to these networking events being the opportunity to meet new professionals\, we encourage you to bring a friend and <strong>PLENTY</strong> of business cards!<br />\n<br />\n<span style="color:#cc0066\;"><em>For entry and parking\, please enter through Gate 1.</em></span></span><br />\n<br />\n&nbsp\;
LOCATION:Joe Davis Stadium Yellowhammer Craft Beer Garden
UID:e.2112.13763
SEQUENCE:3
DTSTAMP:20260424T041317Z
URL:https://cm.hsvchamber.org/events/details/2023-business-after-hours-at-joe-davis-stadium-sept-13763
END:VEVENT

END:VCALENDAR
