BEGIN:VCALENDAR
VERSION:2.0
PRODID:-//ChamberMaster//Event Calendar 2.0//EN
METHOD:PUBLISH
X-PUBLISHED-TTL:P3D
REFRESH-INTERVAL:P3D
CALSCALE:GREGORIAN
BEGIN:VEVENT
DTSTART:20230613T123000Z
DTEND:20230613T140000Z
X-MICROSOFT-CDO-ALLDAYEVENT:FALSE
SUMMARY:2023 Breakfast & Biz (June) - SOLD OUT
DESCRIPTION:SOLD OUT!\n\n\n\nBreakfast & Biz is a fast-paced networking event designed for members of the business community to connect and promote their products or services in a time-saving and effective way. You will enjoy a light breakfast and plenty of coffee before being assigned a number and rotating among tables at least five times\, giving you a tremendous opportunity to initiate new business contacts in a short period of time.\n\n\n\nAfter Breakfast & Biz\, you will arrive at work with a hand full of business cards\, and follow-up calls to be made!\n\n \n\nBe sure to bring plenty of business cards!
X-ALT-DESC;FMTTYPE=text/html:<span style="font-size:16px\;"><span style="font-size:20px\;"><span style="color:#FF0000\;"><strong>SOLD OUT!</strong></span></span><br />\n<br />\n<span style="font-size:16px\;"><strong>Breakfast &amp\; Biz</strong> is a fast-paced networking event designed for members of the business community to connect and promote their products or services in a time-saving and effective way. You will enjoy a light breakfast and plenty of coffee before being assigned a number and rotating among tables at least five times\, giving you a tremendous opportunity to initiate new business contacts in a short period of time.<br />\n<br />\nAfter Breakfast &amp\; Biz\, you will arrive at work with a hand full of business cards\, and follow-up calls to be made!<br />\n&nbsp\;<br />\n<span style="font-size:18px\;"><span style="color:#d04700\;"><strong>Be sure to bring plenty of business cards!</strong></span></span></span><br />\n&nbsp\;</span>
LOCATION:Huntsville Country Club
UID:e.2112.13441
SEQUENCE:3
DTSTAMP:20260423T232653Z
URL:https://cm.hsvchamber.org/events/details/2023-breakfast-biz-june-sold-out-13441
END:VEVENT

END:VCALENDAR
