BEGIN:VCALENDAR
VERSION:2.0
PRODID:-//ChamberMaster//Event Calendar 2.0//EN
METHOD:PUBLISH
X-PUBLISHED-TTL:P3D
REFRESH-INTERVAL:P3D
CALSCALE:GREGORIAN
BEGIN:VEVENT
DTSTART:20230630T170000Z
DTEND:20230630T180000Z
X-MICROSOFT-CDO-ALLDAYEVENT:FALSE
SUMMARY:2023 Armed Forces Celebration Luncheon
DESCRIPTION:In celebration of the role that Redstone Arsenal plays in the defense of our nation and the economic impact that it has on our region\, the Chamber will host a series of Armed Forces Celebration events in late June. The Armed Forces Celebration Luncheon is the signature event of the celebration activities.\n\n \n\nRedstone is the home of the four-star Army Materiel Command and a dozen other Army Commands and Offices\, as well as offices for the Missile Defense Agency and the Defense Intelligence Agency. Over 43\,000 people work on Redstone\, and more than $50 billion in federal budgets are managed on the base.\n\n \n\nPlease join us for a very special celebration of Redstone Arsenal and its leadership\, featuring a keynote luncheon update from General Charles Hamilton\, Commander of the Army Materiel Command.\n\n \n\n\nAvailable sponsorships for this event will be sold through June 16. If interested\, please contact Kristy Drake at kdrake@hsvchamber.org.
X-ALT-DESC;FMTTYPE=text/html:<span style="font-size:16px\;">In celebration of the role that Redstone Arsenal plays in the defense of our nation and the economic impact that it has on our region\, the Chamber will host a series of Armed Forces Celebration events in late June. The Armed Forces Celebration Luncheon is the signature event of the celebration activities.<br />\n&nbsp\;<br />\nRedstone is the home of the four-star Army Materiel Command and a dozen other Army Commands and Offices\, as well as offices for the Missile Defense Agency and the Defense Intelligence Agency. Over 43\,000 people work on Redstone\, and more than $50 billion in federal budgets are managed on the base.<br />\n&nbsp\;<br />\nPlease join us for a very special celebration of Redstone Arsenal and its leadership\, featuring a keynote luncheon update from General Charles Hamilton\, Commander of the Army Materiel Command.</span><br />\n&nbsp\;\n<hr /><br />\n<span style="font-size:16px\;"><span style="color:#B22222\;"><strong>Available sponsorships for this event will be sold through June 16.</strong></span> If interested\, please contact Kristy Drake at <a href="mailto:kdrake@hsvchamber.org?subject=AFC%20Luncheon%20sponsorships">kdrake@hsvchamber.org</a>.</span><br />\n&nbsp\;
LOCATION:VBC East Hall 1 & 2 See on Google Maps
UID:e.2112.13804
SEQUENCE:3
DTSTAMP:20260423T225906Z
URL:https://cm.hsvchamber.org/events/details/2023-armed-forces-celebration-luncheon-13804
END:VEVENT

END:VCALENDAR
