BEGIN:VCALENDAR
VERSION:2.0
PRODID:-//ChamberMaster//Event Calendar 2.0//EN
METHOD:PUBLISH
X-PUBLISHED-TTL:P3D
REFRESH-INTERVAL:P3D
CALSCALE:GREGORIAN
BEGIN:VEVENT
DTSTART:20230625T180000Z
DTEND:20230625T220000Z
X-MICROSOFT-CDO-ALLDAYEVENT:FALSE
SUMMARY:2023 Armed Forces Celebration: Gold Star Family Appreciation Event
DESCRIPTION:The Chamber will host an appreciation event for Gold Star Families* at the Rocket City Trash Pandas game on June 25. We thank the Presenting Sponsor\, ASRC Federal\, for your support of this event as we honor these families.\n\n\n\nThis event for Gold Star Families is by invitation only\, and Redstone Arsenal has worked to invite families.\n\n\n\nThis is one of several events we are hosting during the 2023 Armed Forces Celebration. Please check Facebook and hsvchamber.org for other events intended for the public.\n\n\n\n\n\n*Gold Star Families are the immediate family members of a fallen service member who died in the line of duty of military service.
X-ALT-DESC;FMTTYPE=text/html:<span style="font-size:16px\;">The Chamber will host an appreciation event for Gold Star Families* at the Rocket City Trash Pandas game on June 25. We thank the Presenting Sponsor\, ASRC Federal\, for your support of this event as we honor these families.<br />\n<br />\nThis event for Gold Star Families is <span style="color:#FF0000\;">by invitation only</span>\, and Redstone Arsenal has worked to invite families.<br />\n<br />\nThis is one of several events we are hosting during the 2023 Armed Forces Celebration. Please check <a href="https://www.facebook.com/HuntsvilleAlabama">Facebook</a> and <a href="https://hsvchamber.org">hsvchamber.org</a> for other events intended for the public.<br />\n<br />\n<br />\n<em>*<span style="font-size:14px\;">Gold Star Families are the immediate family members of a fallen service member who died in the line of duty of military service.</span></em></span><br />\n&nbsp\;
LOCATION:
UID:e.2112.13806
SEQUENCE:3
DTSTAMP:20260423T230453Z
URL:https://cm.hsvchamber.org/events/details/2023-armed-forces-celebration-gold-star-family-appreciation-event-13806
END:VEVENT

END:VCALENDAR
