BEGIN:VCALENDAR
VERSION:2.0
PRODID:-//ChamberMaster//Event Calendar 2.0//EN
METHOD:PUBLISH
X-PUBLISHED-TTL:P3D
REFRESH-INTERVAL:P3D
CALSCALE:GREGORIAN
BEGIN:VEVENT
DTSTART:20230627T223000Z
DTEND:20230628T003000Z
X-MICROSOFT-CDO-ALLDAYEVENT:FALSE
SUMMARY:2023 Armed Forced Celebration: Community Softball Game
DESCRIPTION:Whether you cheer for the Redstone Arsenal team or our local Community Leaders\, this will be a great game!\n\n\n\nAdmissions and parking are FREE\, so bring your entire family and make an evening of it! The gates open at 5 p.m.\, and concessions will be available for purchase.\n\n \n\nIf you haven't visited Toyota Field yet\, be sure to check out everything you need to know before you go HERE
X-ALT-DESC;FMTTYPE=text/html:<span style="font-size:16px\;">Whether you cheer for the Redstone Arsenal team or our local Community Leaders\, this will be a great game!<br />\n<br />\nAdmissions and parking are FREE\, so bring your entire family and make an evening of it! The gates open at 5 p.m.\, and concessions will be available for purchase.<br />\n&nbsp\;<br />\nIf you haven&#39\;t visited Toyota Field yet\, be sure to check out everything you need to know before you go <a href="http://www.milb.com/rocket-city/ballpark/know-before-you-go"><strong>HERE</strong></a></span>\n<hr />
LOCATION:Toyota Field
UID:e.2112.13808
SEQUENCE:3
DTSTAMP:20260423T230045Z
URL:https://cm.hsvchamber.org/events/details/2023-armed-forced-celebration-community-softball-game-13808
END:VEVENT

END:VCALENDAR
