BEGIN:VCALENDAR
VERSION:2.0
PRODID:-//ChamberMaster//Event Calendar 2.0//EN
METHOD:PUBLISH
X-PUBLISHED-TTL:P3D
REFRESH-INTERVAL:P3D
CALSCALE:GREGORIAN
BEGIN:VEVENT
DTSTART:20230608T170000Z
DTEND:20230608T180000Z
X-MICROSOFT-CDO-ALLDAYEVENT:FALSE
SUMMARY:2023 Alabama Update featuring Gov. Kay Ivey
DESCRIPTION:SOLD OUT - WAITING LIST ONLY (click 'Register')\n\n\n\nThe Chamber's Alabama Update provides Gov. Kay Ivey with an opportunity to update the Huntsville/Madison County business community on critical issues facing the State and provide an outlook for the year ahead. Through this update\, the Chamber promotes communication between leaders in the state government and regional businesses.
X-ALT-DESC;FMTTYPE=text/html:<span style="font-size: 16px\;"><strong><span style="font-size:18px\;"><span style="color:#FF0000\;">SOLD OUT - WAITING LIST ONLY (click &#39\;Register&#39\;)</span></span></strong><br />\n<br />\nThe Chamber&#39\;s Alabama Update provides Gov. Kay Ivey with an opportunity to update the Huntsville/Madison County business community on critical issues facing the State and provide an outlook for the year ahead. Through this update\, the Chamber promotes communication between leaders in the state government and regional businesses.&nbsp\;</span>
LOCATION:VBC South Hall Ballrooms See on Google Maps
UID:e.2112.13326
SEQUENCE:3
DTSTAMP:20260422T122716Z
URL:https://cm.hsvchamber.org/events/details/2023-alabama-update-featuring-gov-kay-ivey-13326
END:VEVENT

END:VCALENDAR
