BEGIN:VCALENDAR
VERSION:2.0
PRODID:-//ChamberMaster//Event Calendar 2.0//EN
METHOD:PUBLISH
X-PUBLISHED-TTL:P3D
REFRESH-INTERVAL:P3D
CALSCALE:GREGORIAN
BEGIN:VEVENT
DTSTART;VALUE=DATE:20221016
DTEND;VALUE=DATE:20221019
TRANSP:TRANSPARENT
X-MICROSOFT-CDO-ALLDAYEVENT:TRUE
SUMMARY:2022 Washington DC Trip (CANCELED)
DESCRIPTION:THIS TRIP IS POSTPONED TILL 2023.\n\n\n\nIt's been a long time coming! The Chamber's DC Trip is an excellent opportunity for business and community leaders to reconnect with key national leaders and return to the Capital. The trip offers great opportunities to interact with our Congressional Delegation and key federal agency leaders to advance the critical issues in the Chamber's Federal Agenda.\n\n\n\nThis trip is recognized as one of the most successful Chamber-hosted fly-ins in the country and featured just shy of 200 attendees on our last trip! Our itinerary includes two days of meetings\, briefings\, lunches\, and receptions with members of Congress\, NASA\, military leaders\, and other federal leaders.\n\n\n\nHotel and travel expenses are not included.
X-ALT-DESC;FMTTYPE=text/html:<span style="font-size:16px\;"><span style="font-size:20px\;"><span style="color:#B22222\;"><strong>THIS TRIP IS POSTPONED TILL 2023.</strong></span></span><br />\n<br />\n<span style="color:#A9A9A9\;">It&#39\;s been a long time coming! The Chamber&#39\;s DC Trip is an excellent opportunity for business and community leaders to reconnect with key national leaders and return to the Capital. The trip offers great opportunities to interact with our Congressional Delegation and key federal agency leaders to advance the critical issues in the Chamber&#39\;s Federal Agenda.<br />\n<br />\nThis trip is recognized as one of the most successful Chamber-hosted fly-ins in the country and featured just shy of 200 attendees on our last trip! Our itinerary includes two days of meetings\, briefings\, lunches\, and receptions with members of Congress\, NASA\, military leaders\, and other federal leaders.<br />\n<br />\nHotel and travel expenses are not included. </span></span><br />\n<br />\n<br />\n&nbsp\;
LOCATION:Hotel Info Hilton Washington DC Capitol Hill (formerly Washington Court Hotel) 202-628-2100 Reserve your room HERE.
UID:e.2112.12096
SEQUENCE:3
DTSTAMP:20260423T121745Z
URL:https://cm.hsvchamber.org/events/details/2022-washington-dc-trip-canceled-12096
END:VEVENT

END:VCALENDAR
