BEGIN:VCALENDAR
VERSION:2.0
PRODID:-//ChamberMaster//Event Calendar 2.0//EN
METHOD:PUBLISH
X-PUBLISHED-TTL:P3D
REFRESH-INTERVAL:P3D
CALSCALE:GREGORIAN
BEGIN:VEVENT
DTSTART:20220802T170000Z
DTEND:20220802T180000Z
X-MICROSOFT-CDO-ALLDAYEVENT:FALSE
SUMMARY:2022 State of the County Address featuring Chairman Strong
DESCRIPTION:THIS EVENT IS SOLD OUT.\n\n\n\nJoin us for the 2022 State of the County Address featuring Madison County Commission Chairman Dale Strong. This annual event provides Chairman Strong with an opportunity to update the business community on activities in Madison County. His address will include a review of the previous year and his outlook for the year ahead.
X-ALT-DESC;FMTTYPE=text/html:<br />\n<span style="font-size: 16px\;"><span style="font-size:20px\;"><strong><span style="color:#FF0000\;">THIS EVENT IS SOLD OUT.</span></strong></span><br />\n<br />\nJoin us for the 2022&nbsp\;</span><strong style="font-size: 16px\;">State of the County Address</strong><span style="font-size: 16px\;">&nbsp\;featuring Madison County Commission Chairman Dale Strong. This annual event provides Chairman Strong with an opportunity to update the business community on activities in Madison County. His address will include a review of the previous year and his outlook for the year ahead.</span>
LOCATION:VBC South Hall Ballrooms See on Google Maps
UID:e.2112.12092
SEQUENCE:3
DTSTAMP:20260423T090738Z
URL:https://cm.hsvchamber.org/events/details/2022-state-of-the-county-address-featuring-chairman-strong-12092
END:VEVENT

END:VCALENDAR
