BEGIN:VCALENDAR
VERSION:2.0
PRODID:-//ChamberMaster//Event Calendar 2.0//EN
METHOD:PUBLISH
X-PUBLISHED-TTL:P3D
REFRESH-INTERVAL:P3D
CALSCALE:GREGORIAN
BEGIN:VEVENT
DTSTART:20221101T230000Z
DTEND:20221102T020000Z
X-MICROSOFT-CDO-ALLDAYEVENT:FALSE
SUMMARY:2022 Small Business Awards Gala
DESCRIPTION:Registration has closed for this event.\n\n\n\nHelp us celebrate small businesses and individuals who have helped this city grow into the community we all love at the 37th Annual Small Business Awards Gala!\n\n\n\nShow your support for our small businesses by purchasing tickets or a table for this fun event!\n\n\n\nWe will honor businesses and individuals in the following categories:\n\n	Culinary Business of the Year\n	 Emerging Business of the Year\n	Government Contracting:\n	\n		Professional Service of the Year\n		Technology Business of the Year\n	\n	\n	Medical Practice of the Year\n	Nonprofit of the Year\n	Professional Services Business of the Year\n	Service Business of the Year\n	Technology Business of the Year\n	Woman-Owned Business of the Year\n	Young Professional of the Year\n	Russell G. Brown Executive Leadership Award\n\n\n\n*Black tie optional
X-ALT-DESC;FMTTYPE=text/html:<span style="font-size:16px\;"><strong><span style="color:#FF0000\;">Registration has closed for this event.</span></strong><br />\n<br />\nHelp us celebrate small businesses and individuals who have helped this city grow into the community we all love at the 37th Annual <strong>Small Business Awards Gala</strong>!<br />\n<br />\nShow your support for our small businesses by purchasing tickets or a table for this fun event!<br />\n<br />\nWe will honor businesses and individuals in the following categories:</span>\n<ul>\n	<li><span style="font-size:16px\;">Culinary Business of the Year</span></li>\n	<li><span style="font-size:16px\;">&#8203\;Emerging Business of the Year</span></li>\n	<li><span style="font-size:16px\;">Government Contracting:</span>\n	<ul>\n		<li><span style="font-size:16px\;">Professional Service of the Year</span></li>\n		<li><span style="font-size:16px\;">Technology Business of the Year</span></li>\n	</ul>\n	</li>\n	<li><span style="font-size:16px\;">Medical Practice of the Year</span></li>\n	<li><span style="font-size:16px\;">Nonprofit of the Year</span></li>\n	<li><span style="font-size:16px\;">Professional Services Business of the Year</span></li>\n	<li><span style="font-size:16px\;">Service Business of the Year</span></li>\n	<li><span style="font-size:16px\;">Technology Business of the Year</span></li>\n	<li><span style="font-size:16px\;">Woman-Owned Business of the Year</span></li>\n	<li><span style="font-size:16px\;">Young Professional of the Year</span></li>\n	<li><span style="font-size:16px\;">Russell G. Brown Executive Leadership Award</span></li>\n</ul>\n<br />\n<span style="font-size:16px\;"><span style="color:#cc0099\;">*<em>Black tie optional</em></span><br />\n&nbsp\;</span>
LOCATION:VBC South Hall 2 See on Google Maps
UID:e.2112.13327
SEQUENCE:3
DTSTAMP:20260421T053603Z
URL:https://cm.hsvchamber.org/events/details/2022-small-business-awards-gala-13327
END:VEVENT

END:VCALENDAR
