BEGIN:VCALENDAR
VERSION:2.0
PRODID:-//ChamberMaster//Event Calendar 2.0//EN
METHOD:PUBLISH
X-PUBLISHED-TTL:P3D
REFRESH-INTERVAL:P3D
CALSCALE:GREGORIAN
BEGIN:VEVENT
DTSTART:20221115T203000Z
DTEND:20221116T003000Z
X-MICROSOFT-CDO-ALLDAYEVENT:FALSE
SUMMARY:2022 ReLaunch Job Fair (Nov)
DESCRIPTION:The Huntsville/Madison County Chamber is collaborating with the local Alabama Career Center\, the Alabama Community College System\, local nonprofits\, and community agencies to help bridge the gap between the under-resourced job seeker and our employers.\n\n\n\nThe ReLaunch Job Fair will provide opportunities for individuals who are changing careers\, unemployed\, underemployed\, have dropped out of high school\, who are not achieving their full potential\, or are in need of a second career chance. This specific event may also include seasonal opportunities. \n\n\n\nOur mission is to assist our local companies in finding capable workers and to empower members of our community by improving their quality of life and financial stability.\n\n\n\nEvent is free to all job seekers (registration not required).\n\n\n\nRegistration fee includes:\n\n	(1) Table + (2) Chairs\n	(2) Company Representatives\n	Refreshments\n\n\n EMPLOYER REGISTRATION IS NOW CLOSED.\n\n\n\nSpecial thanks to First Baptist Church of Huntsville for partnering with us on this event!\n\n\n\nJob seekers\, here's a list of the employers that have signed up:\n\n\n	Abaco Systems / AMETEK\n	Ability Plus\, Inc.\n	Adtran\, Inc.\n	Air Essentials\, Inc.\n	Alabama Army National Guard\n	Alabama Credit Union\n	Alliance HR\n	AMT Medical Staffing\n	Avadian Credit Union\n	Available Plastics\, Inc.\n	Axxeum\, Inc.\n	BASF Corporation\n	Boys & Girls Clubs of North Alabama\n	Brookdale Jones Farm\n	Calhoun Community College\n	Cook's Pest Control\n	Crestwood Medical Center\n	\n	Dowdy Insurance\n	\n	Dynetics\, Inc.\n	Edison at Madison\n	Elite Technology Solutions\, LLC.\n	Heart of the Valley YMCA - Corporate Office\n	Help At Home\n	Huntsville Hospital\n	Huntsville Utilities\n	Huntsville/Madison County Public Library\n	iHeartMedia\n	Kelly Services\n	McDonald's - Johnson Partners\, Inc.\n	Nextek\, Inc.\n	Phoenix (Presenting Sponsor)\n	Pinnacle Solutions\, Inc.\n	Redstone Village\n	Quantum & Companies\n	Smith Enterprises\, Inc.\n	Spur Staffing\n	The Arc of Madison County\, Inc.\n	Toyota Alabama\n	Velox\, LLC\n	Yedla Management Company
X-ALT-DESC;FMTTYPE=text/html:<span style="font-size:16px\;">The Huntsville/Madison County Chamber is collaborating with the local Alabama Career Center\, the Alabama Community College System\, local nonprofits\, and community agencies to help bridge the gap between the under-resourced job seeker and our employers.<br />\n<br />\nThe <strong>ReLaunch Job Fair</strong> will provide opportunities for individuals who are changing careers\, unemployed\, underemployed\, have dropped out of high school\, who are not achieving their full potential\, or are in need of a second career chance. This specific event may also include seasonal opportunities.&nbsp\;<br />\n<br />\nOur mission is to assist our local companies in finding capable workers and to empower members of our community by improving their quality of life and financial stability.<br />\n<br />\n<strong>Event is free to all job seekers</strong> (registration not required).<br />\n<br />\nRegistration fee includes:</span>\n<ul style="color: rgb(51\, 51\, 51)\; font-family: Roboto\, sans-serif\; font-size: 13px\; background-color: rgb(255\, 255\, 255)\;">\n	<li><span style="font-size:14px\;">(1) Table + (2) Chairs</span></li>\n	<li><span style="font-size: 14px\;">(2)&nbsp\;Company Representatives</span></li>\n	<li><span style="font-size:14px\;">Refreshments</span></li>\n</ul>\n\n<p>&#8203\;<strong style="color: rgb(255\, 102\, 0)\; font-size: 16px\; font-family: sans-serif\, Arial\, Verdana\, " trebuchet="">EMPLOYER REGISTRATION IS NOW CLOSED.</strong><br />\n<br />\n<span style="font-size:16px\;"><em>Special thanks to First Baptist Church of Huntsville for partnering with us on this event!</em></span><br />\n<br />\n<span style="font-size:16px\;"><span style="font-family:arial\;">Job seekers\, here&#39\;s a list of the employers that have signed up:</span></span></p>\n\n<ul>\n	<li><span style="font-size:14px\;"><span style="font-family: Roboto\, sans-serif\; white-space: nowrap\; background-color: rgb(255\, 255\, 255)\;">Abaco Systems / AMETEK</span></span></li>\n	<li><span style="font-size:14px\;">Ability Plus\, Inc.</span></li>\n	<li><span style="font-size:14px\;">Adtran\, Inc.</span></li>\n	<li><span style="font-size:14px\;">Air Essentials\, Inc.</span></li>\n	<li><span style="font-size:14px\;"><span style="font-family: Roboto\, sans-serif\; white-space: nowrap\; background-color: rgb(255\, 255\, 255)\;">Alabama Army National Guard</span></span></li>\n	<li><span style="font-size:14px\;">Alabama Credit Union</span></li>\n	<li><span style="font-size:14px\;">Alliance HR</span></li>\n	<li><span style="font-size:14px\;">AMT Medical Staffing</span></li>\n	<li><span style="font-size:14px\;">Avadian Credit Union</span></li>\n	<li><span style="font-size:14px\;">Available Plastics\, Inc.</span></li>\n	<li><span style="font-size:14px\;">Axxeum\, Inc.</span></li>\n	<li><span style="font-size:14px\;">BASF Corporation</span></li>\n	<li><span style="font-size:14px\;">Boys &amp\; Girls Clubs of North Alabama</span></li>\n	<li><span style="font-size:14px\;">Brookdale Jones Farm</span></li>\n	<li><span style="font-size:14px\;">Calhoun Community College</span></li>\n	<li><span style="font-size:14px\;"><span data-sheets-userformat="{&quot\;2&quot\;:513\,&quot\;3&quot\;:{&quot\;1&quot\;:0}\,&quot\;12&quot\;:0}" data-sheets-value="{&quot\;1&quot\;:2\,&quot\;2&quot\;:&quot\;Cook's Pest Control - Residential&quot\;}" style="font-family: Arial\;">Cook&#39\;s Pest Control</span></span></li>\n	<li><span style="font-size:14px\;">Crestwood Medical Center</span></li>\n	<li>\n	<div><font face="Roboto\, sans-serif"><span style="font-size: 14px\;">Dowdy Insurance</span></font></div>\n	</li>\n	<li><span style="font-size:14px\;">Dynetics\, Inc.</span></li>\n	<li><span style="font-size:14px\;">Edison at Madison</span></li>\n	<li><span style="font-size:14px\;">Elite Technology Solutions\, LLC.</span></li>\n	<li><span style="font-size:14px\;">Heart of the Valley YMCA - Corporate Office</span></li>\n	<li><span style="font-size:14px\;">Help At Home</span></li>\n	<li><span style="font-size:14px\;">Huntsville Hospital</span></li>\n	<li><span style="font-size:14px\;">Huntsville Utilities</span></li>\n	<li><span style="font-size:14px\;">Huntsville/Madison County Public Library</span></li>\n	<li><span style="font-size:14px\;">iHeartMedia</span></li>\n	<li><span style="font-size:14px\;">Kelly Services</span></li>\n	<li><span style="font-size:14px\;">McDonald&#39\;s - Johnson Partners\, Inc.</span></li>\n	<li><span style="font-size:14px\;">Nextek\, Inc.</span></li>\n	<li><span style="font-size:14px\;"><strong>Phoenix </strong><span style="font-size:12px\;"><em>(Presenting Sponsor)</em></span></span></li>\n	<li><span style="font-size:14px\;">Pinnacle Solutions\, Inc.</span></li>\n	<li><span style="font-size:14px\;">Redstone Village</span></li>\n	<li><span style="font-size:14px\;">Quantum &amp\; Companies</span></li>\n	<li><span style="font-size:14px\;">Smith Enterprises\, Inc.</span></li>\n	<li><span style="font-size:14px\;">Spur Staffing</span></li>\n	<li><span style="font-size:14px\;">The Arc of Madison County\, Inc.</span></li>\n	<li><span style="font-size:14px\;">Toyota Alabama</span></li>\n	<li><span style="font-size:14px\;">Velox\, LLC</span></li>\n	<li><span style="font-size:14px\;">Yedla Management Company</span></li>\n</ul>\n
LOCATION:First Baptist Church of Huntsville Entrance #7 - St. Clair Ave across from the Huntsville/Madison County Public Library
UID:e.2112.13718
SEQUENCE:3
DTSTAMP:20260421T071344Z
URL:https://cm.hsvchamber.org/events/details/2022-relaunch-job-fair-nov-13718
END:VEVENT

END:VCALENDAR
