BEGIN:VCALENDAR
VERSION:2.0
PRODID:-//ChamberMaster//Event Calendar 2.0//EN
METHOD:PUBLISH
X-PUBLISHED-TTL:P3D
REFRESH-INTERVAL:P3D
CALSCALE:GREGORIAN
BEGIN:VEVENT
DTSTART:20221208T140000Z
DTEND:20221208T190000Z
X-MICROSOFT-CDO-ALLDAYEVENT:FALSE
SUMMARY:2022 Redstone Update
DESCRIPTION:THIS EVENT IS SOLD OUT.\n\n\n\nRedstone Arsenal is the economic engine that powers roughly half of the Huntsville metro economy\, and commands and agencies on the Arsenal are responsible for the management of more than $50 billion in federal spending. Each year\, we invite our Chamber members to peek behind the curtain and hear directly from the Arsenal's highest ranking military leaders and senior executives.\n\n\n\nOur annual Redstone Update will highlight Redstone's diverse roles and missions. It will also provide insight about the commands\, federal agencies and organizations on the installation. The Redstone Update includes morning briefings\, followed by a luncheon with a keynote presentation.\n\n\n\nMorning speakers include:\n\n	LTG Chris Mohan\, U.S.Army Materiel Command Deputy Commander\, Senior Commander of Redstone Arsenal\n	Jody Singer\, Director\, NASA's Marshall Space Flight Center (MSFC)\n	Wendell "Drew" Watts\, Deputy Assistant Director\, Federal Bureau of Investigation (FBI)\n	LTG Robert Rasch\, Jr.\, Director of Hypersonics\, Directed Energy\, Space and Rapid Acquisition\, Rapid Capabilities and Critical Technologies Office (RCCTO)\n	Richard De Fatta\, Space and Missile Defense Command Deputy to the Commander\, U.S. Army Space and Missile Defense Command (SMDC)\n	Rene  Mosher\, Director Operations and Readiness\, G3\, Army Materiel Command\n	Dr. Myra Gray\, Deputy to the Commanding General\, US Army Security Assistance Command\n	Warren O'Donell\, Acting Deputy Program Executive Officer (DPEO)\, PEO Missiles and Space\n	COL Richard Pfeiffer\, Chief of Staff\, Army Contracting Command
X-ALT-DESC;FMTTYPE=text/html:<span style="font-size:16px\;"><span style="color:#FF0000\;"><span style="font-size:20px\;"><strong>THIS EVENT IS SOLD OUT.</strong></span></span><br />\n<br />\nRedstone Arsenal is the economic engine that powers roughly half of the Huntsville metro economy\, and commands and agencies on the Arsenal are responsible for the management of more than $50 billion in federal spending. Each year\, we invite our Chamber members to peek behind the curtain and hear directly from the Arsenal&#39\;s highest ranking military leaders and senior executives.<br />\n<br />\nOur annual <strong>Redstone Update </strong>will highlight Redstone&#39\;s diverse roles and missions. It will also provide insight about the commands\, federal agencies and organizations on the installation. The Redstone Update includes morning briefings\, followed by a luncheon with a keynote presentation.</span><br />\n<br />\n<span style="font-size:16px\;"><u>Morning speakers include</u>:</span>\n<ul>\n	<li><span style="font-size:16px\;"><strong>LTG Chris Mohan</strong>\, U.S.Army Materiel Command Deputy Commander\, Senior Commander of Redstone Arsenal</span></li>\n	<li><span style="font-size:16px\;"><strong>Jody Singer</strong>\, Director\, NASA&rsquo\;s Marshall Space Flight Center (MSFC)</span></li>\n	<li><span style="font-size:16px\;"><strong>Wendell &ldquo\;Drew&rdquo\; Watts</strong>\, Deputy Assistant Director\, Federal Bureau of Investigation (FBI)</span></li>\n	<li><span style="font-size:16px\;"><strong>LTG Robert Rasch\, Jr.</strong>\, Director of Hypersonics\, Directed Energy\, Space and Rapid Acquisition\, Rapid Capabilities and Critical Technologies Office (RCCTO)</span></li>\n	<li><span style="font-size:16px\;"><strong>Richard De Fatta</strong>\, Space and Missile Defense Command Deputy to the Commander\, U.S. Army Space and Missile Defense Command (SMDC)</span></li>\n	<li><span style="font-size:16px\;"><strong>Rene&eacute\; Mosher</strong>\, Director Operations and Readiness\, G3\, Army Materiel Command</span></li>\n	<li><span style="font-size:16px\;"><strong>Dr. Myra Gray</strong>\, Deputy to the Commanding General\, US Army Security Assistance Command</span></li>\n	<li><span style="font-size:16px\;"><strong>Warren O&rsquo\;Donell</strong>\, Acting Deputy Program Executive Officer (DPEO)\, PEO Missiles and Space</span></li>\n	<li><span style="font-size:16px\;"><span style="font-size:16px\;"><strong>COL Richard Pfeiffer</strong>\, Chief of Staff\, Army Contracting Command</span></span></li>\n</ul>\n
LOCATION:VBC East Hall See on Google Maps
UID:e.2112.13298
SEQUENCE:3
DTSTAMP:20260421T061247Z
URL:https://cm.hsvchamber.org/events/details/2022-redstone-update-13298
END:VEVENT

END:VCALENDAR
