BEGIN:VCALENDAR
VERSION:2.0
PRODID:-//ChamberMaster//Event Calendar 2.0//EN
METHOD:PUBLISH
X-PUBLISHED-TTL:P3D
REFRESH-INTERVAL:P3D
CALSCALE:GREGORIAN
BEGIN:VEVENT
DTSTART:20221013T140000Z
DTEND:20221013T153000Z
X-MICROSOFT-CDO-ALLDAYEVENT:FALSE
SUMMARY:2022 Huntsville's Top Talent\, Recruitment that Works
DESCRIPTION:So far in our series we've talked about benefits\, the value of being flexible and creative in the workplace\, and now it's time to think about recruitment strategies that work! What are professionals in the recruitment field seeing\, hearing and implementing in order to recruit top talent? Join us as we hear from companies recruiting for a variety of industries to learn what it takes to source top talent!\n\n \n\nPANELISTS:\n\n	Sonia Robinson\, Chief Workforce Strategist & CEO\, Spur\n	Paul Brashier\, Owner\, Snellling\n	Terra Argraves\, Executive Manager\, Hexagon\n	Matt Ryan\, Director of Talent & Acquisition\, MTSI\n\n\n\nMODERATOR:\n\n\n	Lyndsay Ferguson\, VP of Workforce\, Huntsville/Madison County Chamber
X-ALT-DESC;FMTTYPE=text/html:<span style="font-size:16px\;">So far in our series we&rsquo\;ve talked about benefits\, the value of being flexible and creative in the workplace\, and now it&rsquo\;s time to think about recruitment strategies that work! What are professionals in the recruitment field seeing\, hearing and implementing in order to recruit top talent? Join us as we hear from companies recruiting for a variety of industries to learn what it takes to source top talent!<br />\n&nbsp\;<br />\n<span style="color:#82365a\;"><strong>PANELISTS</strong>:</span></span>\n<ul>\n	<li><span style="font-size:16px\;"><strong>Sonia Robinson</strong>\, Chief Workforce Strategist &amp\; CEO\, Spur</span></li>\n	<li><span style="font-size:16px\;"><strong>Paul Brashier</strong>\, Owner\, Snellling</span></li>\n	<li><span style="font-size:16px\;"><strong>Terra Argraves</strong>\, Executive Manager\, Hexagon</span></li>\n	<li><span style="font-size:16px\;"><strong>Matt Ryan</strong>\, Director of Talent &amp\; Acquisition\, MTSI</span></li>\n</ul>\n<br />\n<span style="font-size:16px\;"><span style="color:#82365a\;"><strong>MODERATOR:</strong></span></span>\n\n<ul>\n	<li><span style="font-size:16px\;"><strong>Lyndsay Ferguson</strong>\, VP of Workforce\, Huntsville/Madison County Chamber</span></li>\n</ul>\n&nbsp\;
LOCATION:Toyota Training Room 3rd floor of Chamber building
UID:e.2112.12181
SEQUENCE:3
DTSTAMP:20260423T105956Z
URL:https://cm.hsvchamber.org/events/details/2022-huntsville-s-top-talent-recruitment-that-works-12181
END:VEVENT

END:VCALENDAR
