BEGIN:VCALENDAR
VERSION:2.0
PRODID:-//ChamberMaster//Event Calendar 2.0//EN
METHOD:PUBLISH
X-PUBLISHED-TTL:P3D
REFRESH-INTERVAL:P3D
CALSCALE:GREGORIAN
BEGIN:VEVENT
DTSTART:20221117T150000Z
DTEND:20221117T163000Z
X-MICROSOFT-CDO-ALLDAYEVENT:FALSE
SUMMARY:2022 Huntsville's Top Talent\, Building a Flexible Corporate Culture that Works
DESCRIPTION:Whether it's returning to the office\, going 100 percent remote\, adopting a hybrid work model\, or some other structure\, many companies now offer more flexibility in the workplace than ever before. Flexibility applies to more than just where\, or even when\, employees work\, and flexibility looks different across industries.\n\n\n\nLearn from these leaders that have successfully incorporated flexibility into their workplaces and their operations in a way that works for their business and their employees.\n\n\n\nPanelists:\n\n	Matt Curtis\, Owner\, Matt Curtis Real Estate\n	Julie Richardson\, Chief Administrative Officer/HR Director\, PeopleTec\, Inc.\n	Ethan Couch\, Partner\, Yellowhammer Brewing\, Inc.\n	Chris Newlin\, Executive Director\, National Children's Advocacy Center\n\n\n\nModerator:\n\n      Melissa DeVore\n\n      SVP of Employee Experience\, INTUITIVE Research and Technology Corporation
X-ALT-DESC;FMTTYPE=text/html:<span style="font-size:16px\;">Whether it&rsquo\;s returning to the office\, going 100 percent remote\, adopting a hybrid work model\, or some other structure\, many companies now offer more flexibility in the workplace than ever before. Flexibility applies to more than just where\, or even when\, employees work\, and flexibility looks different across industries.<br />\n<br />\nLearn from these leaders that have successfully incorporated flexibility into their workplaces and their operations in a way that works for their business and their employees.<br />\n<br />\nPanelists:</span>\n<ul>\n	<li><span style="font-size:16px\;"><strong>Matt Curtis</strong>\, Owner\, <a href="https://www.mattcurtisrealestate.com/">Matt Curtis Real Estate</a></span></li>\n	<li><span style="font-size:16px\;"><strong>Julie Richardson</strong>\, Chief Administrative Officer/HR Director\, <a href="https://www.peopletec.com/">PeopleTec\, Inc.</a></span></li>\n	<li><span style="font-size:16px\;"><strong>Ethan Couch</strong>\, Partner\, <a href="https://www.yellowhammerbrewery.com/">Yellowhammer Brewing\, Inc.</a></span></li>\n	<li><span style="font-size:16px\;"><strong>Chris Newlin</strong>\, Executive Director\, <a href="https://www.nationalcac.org/">National Children&rsquo\;s Advocacy Center</a></span></li>\n</ul>\n<br />\n<span style="font-size:16px\;"><em>Moderator:<br />\n<strong>&nbsp\; &nbsp\; &nbsp\; Melissa DeVore</strong><br />\n<span style="font-size:14px\;">&nbsp\; &nbsp\; &nbsp\; SVP of Employee Experience\, INTUITIVE Research and Technology Corporation&nbsp\;</span></em></span><br />\n&nbsp\;
LOCATION:Toyota Training Room 3rd floor of Chamber building
UID:e.2112.12205
SEQUENCE:3
DTSTAMP:20260421T054151Z
URL:https://cm.hsvchamber.org/events/details/2022-huntsville-s-top-talent-building-a-flexible-corporate-culture-that-works-12205
END:VEVENT

END:VCALENDAR
