BEGIN:VCALENDAR
VERSION:2.0
PRODID:-//ChamberMaster//Event Calendar 2.0//EN
METHOD:PUBLISH
X-PUBLISHED-TTL:P3D
REFRESH-INTERVAL:P3D
CALSCALE:GREGORIAN
BEGIN:VEVENT
DTSTART:20220823T183000Z
DTEND:20220823T193000Z
X-MICROSOFT-CDO-ALLDAYEVENT:FALSE
SUMMARY:2022 CRP Pop-Up Popsicles (Aug)
DESCRIPTION:You're invited to come and enjoy a popsicle from Suzy's Pops\, so be sure to mark your calendar and bring your friends for a fun outing with a free artisan popsicle!
X-ALT-DESC;FMTTYPE=text/html:<font size="3">You&#39\;re&nbsp\;invited to come and enjoy a popsicle from&nbsp\;</font><span style="font-size: 16px\; color: rgb(152\, 29\, 151)\;"><strong>Suzy&rsquo\;s Pops</strong></span><span style="font-size: 16px\;">\, so be sure to mark your calendar and bring your friends for a fun outing with a free artisan popsicle!</span>
LOCATION:The Point @ Lake 4 (on Explorer Blvd.) *Walk over or park at Auburn University or Dynetics and walk the short distance to The Point. See on Google Maps
UID:e.2112.13227
SEQUENCE:3
DTSTAMP:20260423T101800Z
URL:https://cm.hsvchamber.org/events/details/2022-crp-pop-up-popsicles-aug-13227
END:VEVENT

END:VCALENDAR
