BEGIN:VCALENDAR
VERSION:2.0
PRODID:-//ChamberMaster//Event Calendar 2.0//EN
METHOD:PUBLISH
X-PUBLISHED-TTL:P3D
REFRESH-INTERVAL:P3D
CALSCALE:GREGORIAN
BEGIN:VEVENT
DTSTART:20221108T133000Z
DTEND:20221108T150000Z
X-MICROSOFT-CDO-ALLDAYEVENT:FALSE
SUMMARY:2022 Breakfast & Biz (Nov.)
DESCRIPTION:Breakfast & Biz is an excellent way to network in a facilitated\, structured environment. After a light breakfast\, individuals are placed in groups of 4-6 and are given two minutes to share their organization's benefits and services with the group.\n\n\n\nTables rotate at least five times during the event\, giving attendees a tremendous opportunity to initiate new business contacts in a short period of time.\n\n\n\nBe sure to bring plenty of business cards!
X-ALT-DESC;FMTTYPE=text/html:<span style="font-size:16px\;"><strong>Breakfast &amp\; Biz</strong> is an excellent way to network in a facilitated\, structured environment. After a light breakfast\, individuals are placed in groups of 4-6 and are given <strong><span style="color:#84329B\;">two minutes</span> </strong>to share their organization&#39\;s benefits and services with the group.<br />\n<br />\nTables rotate at least five times during the event\, giving attendees a tremendous opportunity to initiate new business contacts in a short period of time.<br />\n<br />\n<span style="color:#84329B\;"><strong>Be sure to bring plenty of business cards!</strong></span></span><br />\n&nbsp\;
LOCATION:Chamber Auditorium
UID:e.2112.13732
SEQUENCE:3
DTSTAMP:20260421T053602Z
URL:https://cm.hsvchamber.org/events/details/2022-breakfast-biz-nov-13732
END:VEVENT

END:VCALENDAR
