BEGIN:VCALENDAR
VERSION:2.0
PRODID:-//ChamberMaster//Event Calendar 2.0//EN
METHOD:PUBLISH
X-PUBLISHED-TTL:P3D
REFRESH-INTERVAL:P3D
CALSCALE:GREGORIAN
BEGIN:VEVENT
DTSTART:20221103T163000Z
DTEND:20221103T180000Z
X-MICROSOFT-CDO-ALLDAYEVENT:FALSE
SUMMARY:2022 Ambassador + Emissary Luncheon (Nov)
DESCRIPTION:The Ambassador Program consists of enthusiastic Chamber volunteers who seek to grow professionally and personally by building business relationships within the community. If you have a desire to become more active in the local business environment\, raise awareness about your business or organization\, network\, and give back to your community\, this program is for you!\n\n\n\nThe Emissary Program is designed to increase membership value and retention rates. Members who are offered the responsibility of being an Emissary (advocates for the Chamber to current members) have already shown a strong sense of commitment and dependability by being an outstanding Chamber member. They are then extended an invitation to become a part of this program.\n\n \n\nEvery year\, our Ambassadors and Emissaries donate more than 9\,000 hours to build strong Chamber member relationships and raise community awareness\, and this Chamber is stronger because of them!
X-ALT-DESC;FMTTYPE=text/html:<span style="font-size:16px\;">The <strong>Ambassador Program </strong>consists of enthusiastic Chamber volunteers who seek to grow professionally and personally by building business relationships within the community. If you have a desire to become more active in the local business environment\, raise awareness about your business or organization\, network\, and give back to your community\, this program is for you!<br />\n<br />\nThe <strong>Emissary Program</strong> is designed to increase membership value and retention rates. Members who are offered the responsibility of being an Emissary (advocates for the Chamber to current members) have already shown a strong sense of commitment and dependability by being an outstanding Chamber member. They are then extended an invitation to become a part of this program.<br />\n&nbsp\;<br />\nEvery year\, our Ambassadors and Emissaries donate more than 9\,000 hours to build strong Chamber member relationships and raise community awareness\, and this Chamber is stronger because of them!</span><br />\n&nbsp\;
LOCATION:Chamber Auditorium
UID:e.2112.13081
SEQUENCE:3
DTSTAMP:20260421T053703Z
URL:https://cm.hsvchamber.org/events/details/2022-ambassador-emissary-luncheon-nov-13081
END:VEVENT

END:VCALENDAR
