BEGIN:VCALENDAR
VERSION:2.0
PRODID:-//ChamberMaster//Event Calendar 2.0//EN
METHOD:PUBLISH
X-PUBLISHED-TTL:P3D
REFRESH-INTERVAL:P3D
CALSCALE:GREGORIAN
BEGIN:VEVENT
DTSTART:20210511T151500Z
DTEND:20210511T161500Z
X-MICROSOFT-CDO-ALLDAYEVENT:FALSE
SUMMARY:2021 Virtual Senior Sprint Career Fair (AM)
DESCRIPTION:The Chamber invites you to join the virtual Senior Sprint Career Fair!\n\n\n\nHow will this work?\n\nWe will host the event on Zoom. Students will register via Zoom and be able to hear from a company representative\; learn about your company's mission\, vision\, and growth opportunities\; discover which positions you have available for graduating seniors\; and learn how to apply to your company.\n\n\n\nWhy is Senior Sprint important?\n\nNearly 30 percent of high school seniors do not have plans after graduation. The Senior Sprint Career Fair will connect these students with employers who are ready to hire and colleges that can help them set a successful career path. The Chamber is collaborating with Huntsville City Schools\, Madison County Schools\, Madison City Schools\, Drake State Community and Technical College\, Calhoun Community College\, and local companies to help students create resumes\, get job interviews\, apply for student financial aid\, and enroll in post-secondary education and training. If you are a graduating senior who has already enrolled in a two-year college\, this event will be perfect for you as well.\n\n\n\nEmployers who are interested in participating MUST be willing to train\, hire\, and provide clear occupational pathways for graduating seniors. It is important for employers to have growth strategies for each graduate hired.  \n\n\n\nHow will I benefit as a graduating senior?\n\nThis is a great opportunity to reach several of our key employers in one virtual room. If you are interested in building your career now\, this event will provide a great jump start.\n\n\n\nHow will my company benefit?\n\nYour organization will benefit by reaching graduating seniors from the class 2021 to meet your workforce demands. Limited to 12 companies/organizations\, so register soon!\n\n\n\nWhat will my company need to participate?\n\n	Register for the event\n	Provide a description of your company\, job opportunities\, and logo (eps or svg)\n	Send one representative from your company to participate on Zoom\n\n\n\nCompanies\, Colleges\, and Organizations registered to participate:\n\n\n	Drake State Community and Technical College \n	Dunn Building Company\n	ACR Service\, Inc.\n	Buffalo Rock\n	Calhoun Community College\n	Carter Express\n	Discovery Life Sciences\n	Huntsville Utilities\n	MatcorMatsu\n	Mazda Toyota Manufacturing\n	McDonald's - Johnson Partners\, Inc.\n	Toyota Motor Manufacturing Alabama\n	Wilson Lumber\n	YKTA
X-ALT-DESC;FMTTYPE=text/html:<span style="font-size:16px\;">The Chamber invites you to join the virtual Senior Sprint Career Fair!<br />\n<br />\n<strong>How will this work?</strong><br />\nWe will host the event on Zoom. <span style="color:#e56a54\;">Students will register via Zoom</span> and be able to hear from a company representative\; learn about your company&rsquo\;s mission\, vision\, and growth opportunities\; discover which positions you have available for graduating seniors\; and learn how to apply to your company.<br />\n<br />\n<strong>Why is Senior Sprint important?</strong><br />\nNearly 30 percent of high school seniors do not have plans after graduation. The Senior Sprint Career Fair will connect these students with employers who are ready to hire and colleges that can help them set a successful career path. The Chamber is collaborating with Huntsville City Schools\, Madison County Schools\, Madison City Schools\, Drake State Community and Technical College\, Calhoun Community College\, and local companies to help students create resumes\, get job interviews\, apply for student financial aid\, and enroll in post-secondary education and training. If you are a graduating senior who has already enrolled in a two-year college\, this event will be perfect for you as well.<br />\n<br />\n<span style="color:#e56a54\;"><strong>Employers who are interested in participating MUST be willing to train\, hire\, and provide clear occupational pathways for graduating seniors. It is important for employers to have growth strategies for each graduate hired. </strong></span>&nbsp\;<br />\n<br />\n<strong>How will I benefit as a graduating senior?</strong><br />\nThis is a great opportunity to reach several of our key employers in one virtual room. If you are interested in building your career now\, this event will provide a great jump start.<br />\n<br />\n<strong>How will my company benefit?</strong><br />\nYour organization will benefit by reaching graduating seniors from the class 2021 to meet your workforce demands. <span style="color:#e56a54\;">Limited to 12 companies/organizations\, so register soon!</span><br />\n<br />\n<strong>What will my company need to participate?</strong></span>\n<ul>\n	<li><span style="font-size:16px\;">Register for the event</span></li>\n	<li><span style="font-size:16px\;">Provide a description of your company\, job opportunities\, and logo (eps or svg)</span></li>\n	<li><span style="font-size:16px\;">Send one representative from your company to participate on Zoom</span></li>\n</ul>\n<br />\n<span style="font-size:16px\;"><u>Companies\, Colleges\, and Organizations registered to participate</u>:</span>\n\n<ul>\n	<li><span style="font-size: 16px\;">Drake State Community and Technical College</span><span style="font-family:calibri\,sans-serif\;"><span style="font-size:11.0pt\;">&nbsp\;</span></span></li>\n	<li><span style="font-size:16px\;">Dunn Building Company</span></li>\n	<li><span style="font-size:16px\;">ACR Service\, Inc.</span></li>\n	<li><span style="font-size:16px\;">Buffalo Rock</span></li>\n	<li><span style="font-size:16px\;">Calhoun Community College</span></li>\n	<li><span style="font-size:16px\;">Carter Express</span></li>\n	<li><span style="font-size:16px\;">Discovery Life Sciences</span></li>\n	<li><span style="font-size:16px\;">Huntsville Utilities</span></li>\n	<li><span style="font-size:16px\;">MatcorMatsu</span></li>\n	<li><span style="font-size:16px\;">Mazda Toyota Manufacturing</span></li>\n	<li><span style="font-size:16px\;">McDonald&#39\;s - Johnson Partners\, Inc.</span></li>\n	<li><span style="font-size:16px\;">Toyota Motor Manufacturing Alabama</span></li>\n	<li><span style="font-size:16px\;">Wilson Lumber</span></li>\n	<li><span style="font-size:16px\;">YKTA</span><span style="font-size:16px\;"> </span></li>\n</ul>\n
LOCATION:A Zoom link will be shared prior to the event.
UID:e.2112.11024
SEQUENCE:3
DTSTAMP:20260421T114737Z
URL:https://cm.hsvchamber.org/events/details/2021-virtual-senior-sprint-career-fair-am-11024
END:VEVENT

END:VCALENDAR
