BEGIN:VCALENDAR
VERSION:2.0
PRODID:-//ChamberMaster//Event Calendar 2.0//EN
METHOD:PUBLISH
X-PUBLISHED-TTL:P3D
REFRESH-INTERVAL:P3D
CALSCALE:GREGORIAN
BEGIN:VEVENT
DTSTART:20210210T143000Z
DTEND:20210210T160000Z
X-MICROSOFT-CDO-ALLDAYEVENT:FALSE
SUMMARY:2021 State of the Schools
DESCRIPTION:The 2021 State of the Schools comes amid a global pandemic that has raised awareness of the critical role our public education system plays in our economy. Join us to hear from the superintendents about their experiences since schools shut down in March through reopening for the 2020-2021 school year and their priorities going forward.\n\n\n\nThe program also includes updates from the Chamber Foundation\, The Schools Foundation\, and the Alabama School of Cyber Technology and Engineering.
X-ALT-DESC;FMTTYPE=text/html:<br />\n<span style="font-size:16px\;">The 2021 <strong>State of the Schools</strong> comes amid a global pandemic that has raised awareness of the critical role our public education system plays in our economy. Join us to hear from the superintendents about their experiences since schools shut down in March through reopening for the 2020-2021 school year and their priorities going forward.<br />\n<br />\nThe program also includes updates from the Chamber Foundation\, The Schools Foundation\, and the Alabama School of Cyber Technology and Engineering.</span>
LOCATION:Virtual event
UID:e.2112.10789
SEQUENCE:3
DTSTAMP:20260421T152452Z
URL:https://cm.hsvchamber.org/events/details/2021-state-of-the-schools-10789
END:VEVENT

END:VCALENDAR
