BEGIN:VCALENDAR
VERSION:2.0
PRODID:-//ChamberMaster//Event Calendar 2.0//EN
METHOD:PUBLISH
X-PUBLISHED-TTL:P3D
REFRESH-INTERVAL:P3D
CALSCALE:GREGORIAN
BEGIN:VEVENT
DTSTART:20210518T160000Z
DTEND:20210518T170000Z
X-MICROSOFT-CDO-ALLDAYEVENT:FALSE
SUMMARY:2021 Seven Steps to Creating a Giving Plan
DESCRIPTION:Identifying what matters most to you creates purpose. Whether you are just starting the process of thinking about giving or have been a long-time giver\, this seven step process will help you give more purposefully to create greater impact.\n\n\n\nSpeaker:\n\nJessica Smith\, president\n\nLongview Financial Advisors
X-ALT-DESC;FMTTYPE=text/html:<span style="font-size:16px\;">Identifying what matters most to you creates purpose. Whether you are just starting the process of thinking about giving or have been a long-time giver\, this seven step process will help you give more purposefully to create greater impact.<br />\n<br />\n<em><span style="font-size:14px\;">Speaker:<br />\n<span style="font-size:16px\;"><strong>Jessica Smith</strong></span>\, president<br />\nLongview Financial Advisors</span></em></span>
LOCATION:A Zoom link will be sent the day before the event.
UID:e.2112.10914
SEQUENCE:3
DTSTAMP:20260421T114540Z
URL:https://cm.hsvchamber.org/events/details/2021-seven-steps-to-creating-a-giving-plan-10914
END:VEVENT

END:VCALENDAR
