BEGIN:VCALENDAR
VERSION:2.0
PRODID:-//ChamberMaster//Event Calendar 2.0//EN
METHOD:PUBLISH
X-PUBLISHED-TTL:P3D
REFRESH-INTERVAL:P3D
CALSCALE:GREGORIAN
BEGIN:VEVENT
DTSTART:20210323T163000Z
DTEND:20210323T173000Z
X-MICROSOFT-CDO-ALLDAYEVENT:FALSE
SUMMARY:2021 SBDC: Quickbooks Online for Your Small Business
DESCRIPTION:Jenni Westhoven\, CPA\, presents introductory level topics in QuickBooks Online as well as essential accounting basics small business owners need to be aware of.
X-ALT-DESC;FMTTYPE=text/html:<br />\n<span style="font-size:16px\;">Jenni Westhoven\, CPA\, presents introductory level topics in QuickBooks Online as well as essential accounting basics small business owners need to be aware of. </span>
LOCATION:Virtual event
UID:e.2112.12299
SEQUENCE:3
DTSTAMP:20260421T133407Z
URL:https://cm.hsvchamber.org/events/details/2021-sbdc-quickbooks-online-for-your-small-business-12299
END:VEVENT

END:VCALENDAR
