BEGIN:VCALENDAR
VERSION:2.0
PRODID:-//ChamberMaster//Event Calendar 2.0//EN
METHOD:PUBLISH
X-PUBLISHED-TTL:P3D
REFRESH-INTERVAL:P3D
CALSCALE:GREGORIAN
BEGIN:VEVENT
DTSTART:20210324T160000Z
DTEND:20210324T173000Z
X-MICROSOFT-CDO-ALLDAYEVENT:FALSE
SUMMARY:2021 SBDC: Intellectual Property in Government Contracting
DESCRIPTION:This presentation by attorneys from the Government Contracts Practice Group of Wilmer & Lee will address intellectual property in federal government contracting from a big picture perspective\, and then delve into issues concerning IP strategy\, protecting your IP\, and allocation of rights under different types of government contracts. \n\n\n\nAccording to experts\, 66 percent of the $7 trillion market value of all public companies is attributable to intangible assets like trademarks\, trade names\, copyrights\, patents\, and trade secrets. Every company should be interested in protecting its intellectual property from uncompensated exploitation. Federal government contractors should know what they have\, how to protect it\, and whether compliance with government contract clauses will require them to give away valuable property.\n\n\n\nOutline:\n\n	Introduction to Intellectual Property: Intellectual Property\, Trade Secrets\, and Protecting Your Company's IP\n	Trademarks\, Trade Names\, Copyrights\, and Patents - What They Are and How You Can Develop Your IP Portfolio To Create Additional Value For Your Company\n	Intellectual Property Rights Under Government Contracts - Allocation of Rights and Government Rights to Intellectual Property Under Various Types of Contracts\n	Conclusions and Questions
X-ALT-DESC;FMTTYPE=text/html:<br />\n<span style="font-size:16px\;">This presentation by attorneys from the Government Contracts Practice Group of Wilmer &amp\; Lee will address intellectual property in federal government contracting from a big picture perspective\, and then delve into issues concerning IP strategy\, protecting your IP\, and allocation of rights under different types of government contracts.&nbsp\;<br />\n<br />\nAccording to experts\, 66 percent of the $7 trillion market value of all public companies is attributable to intangible assets like trademarks\, trade names\, copyrights\, patents\, and trade secrets. Every company should be interested in protecting its intellectual property from uncompensated exploitation. Federal government contractors should know what they have\, how to protect it\, and whether compliance with government contract clauses will require them to give away valuable property.<br />\n<br />\nOutline:</span>\n<ol>\n	<li><span style="font-size:16px\;">Introduction to Intellectual Property: Intellectual Property\, Trade Secrets\, and Protecting Your Company&#39\;s IP</span></li>\n	<li><span style="font-size:16px\;">Trademarks\, Trade Names\, Copyrights\, and Patents - What They Are and How You Can Develop Your IP Portfolio To Create Additional Value For Your Company</span></li>\n	<li><span style="font-size:16px\;">Intellectual Property Rights Under Government Contracts - Allocation of Rights and Government Rights to Intellectual Property Under Various Types of Contracts</span></li>\n	<li><span style="font-size:16px\;">Conclusions and Questions</span></li>\n</ol>\n
LOCATION:Webinar format
UID:e.2112.12093
SEQUENCE:3
DTSTAMP:20260421T133258Z
URL:https://cm.hsvchamber.org/events/details/2021-sbdc-intellectual-property-in-government-contracting-12093
END:VEVENT

END:VCALENDAR
