BEGIN:VCALENDAR
VERSION:2.0
PRODID:-//ChamberMaster//Event Calendar 2.0//EN
METHOD:PUBLISH
X-PUBLISHED-TTL:P3D
REFRESH-INTERVAL:P3D
CALSCALE:GREGORIAN
BEGIN:VEVENT
DTSTART:20210225T170000Z
DTEND:20210225T190000Z
X-MICROSOFT-CDO-ALLDAYEVENT:FALSE
SUMMARY:2021 SBDC – HR 102: Putting Your HR House in Order
DESCRIPTION:Having employees is a great responsibility. Learn from an HR expert about what you should be doing to get your HR House in order. Whether you are a new business\, or one that has been around a while\, a primer on HR tactics will help you retain good employees and keep your organization in compliance.\n\n\n\nThis session will cover:\n\n	HR Compliance Primer (HR Laws by Employer Size\, New Hire Registration\, E-Verify\, and Mandatory Postings)\n	Employee Handbooks (Why You Need One!)\n	Performance Reviews (Linking Performance to Organization Objectives)\n	Documentation and Discipline (The Good\, The Bad\, and the Ugly)\n	Personnel File Retention Plan (What You Need to Keep and Where to Put It)
X-ALT-DESC;FMTTYPE=text/html:<br />\n<span style="font-size:16px\;">Having employees is a great responsibility. Learn from an HR expert about what you should be doing to get your HR House in order. Whether you are a new business\, or one that has been around a while\, a primer on HR tactics will help you retain good employees and keep your organization in compliance.<br />\n<br />\nThis session will cover:</span>\n<ul>\n	<li><span style="font-size:16px\;">HR Compliance Primer (HR Laws by Employer Size\, New Hire Registration\, E-Verify\, and Mandatory Postings)</span></li>\n	<li><span style="font-size:16px\;">Employee Handbooks (Why You Need One!)</span></li>\n	<li><span style="font-size:16px\;">Performance Reviews (Linking Performance to Organization Objectives)</span></li>\n	<li><span style="font-size:16px\;">Documentation and Discipline (The Good\, The Bad\, and the Ugly)</span></li>\n	<li><span style="font-size:16px\;">Personnel File Retention Plan (What You Need to Keep and Where to Put It)</span></li>\n</ul>\n
LOCATION:Webinar format
UID:e.2112.11932
SEQUENCE:3
DTSTAMP:20260421T152559Z
URL:https://cm.hsvchamber.org/events/details/2021-sbdc-hr-102-putting-your-hr-house-in-order-11932
END:VEVENT

END:VCALENDAR
