BEGIN:VCALENDAR
VERSION:2.0
PRODID:-//ChamberMaster//Event Calendar 2.0//EN
METHOD:PUBLISH
X-PUBLISHED-TTL:P3D
REFRESH-INTERVAL:P3D
CALSCALE:GREGORIAN
BEGIN:VEVENT
DTSTART:20210210T170000Z
DTEND:20210210T183000Z
X-MICROSOFT-CDO-ALLDAYEVENT:FALSE
SUMMARY:2021 SBDC: DCAA Accounting Systems Requirements
DESCRIPTION:This presentation will provide an overview of the pre-award accounting system design review process. Participants will learn what occurs prior to the award of a cost-type contract\, what is contained in the SF 1408\, and what the applicable DFARS regulations say with regard to what comprises an acceptable accounting system.  Total contract costs\, including direct costs and indirect costs\, will be discussed. Examples of typically seen indirect rates will be provided as well as a discussion of selecting a proper allocation base will also be provided.\n\n\n\nParticipants will learn about the FAR Part 31 clauses that cover allowability\, allocability\, and reasonableness as well as concepts such as Contract Terms\, Accounting for Contract Costs\, Labor System\, Timekeeping\, Unallowable Costs\, Cost by Contract Line Item\, Billings\, Cost Accounting Information\, and Management Reviews/Internal Audits along with the applicable DFARS clauses. Finally\, some common deficiencies will be discussed.\n\n\n\nPresenter:\n\nJoseph Greger\, Small Business Program Manager \n\nJoseph Greger is the Small Business Program Manager and is located at DCAA Headquarters in Fort Belvoir\, Va. In this capacity\, he serves as the program manager and audit expert for the small business program with the responsibility to provide assistance\, consultation\, and internal control with regard to audit requirements and their application to small businesses.
X-ALT-DESC;FMTTYPE=text/html:<br />\n<span style="font-size:16px\;">This presentation will provide an overview of the pre-award accounting system design review process. Participants will learn what occurs prior to the award of a cost-type contract\, what is contained in the SF 1408\, and what the applicable DFARS regulations say with regard to what comprises an acceptable accounting system.&nbsp\; Total contract costs\, including direct costs and indirect costs\, will be discussed. Examples of typically seen indirect rates will be provided as well as a discussion of selecting a proper allocation base will also be provided.<br />\n<br />\nParticipants will learn about the FAR Part 31 clauses that cover allowability\, allocability\, and reasonableness as well as concepts such as Contract Terms\, Accounting for Contract Costs\, Labor System\, Timekeeping\, Unallowable Costs\, Cost by Contract Line Item\, Billings\, Cost Accounting Information\, and Management Reviews/Internal Audits along with the applicable DFARS clauses. Finally\, some common deficiencies will be discussed.</span><br />\n<br />\n<em>Presenter:<br />\n<span style="font-size:16px\;"><strong>Joseph Greger</strong>\, Small Business Program Manager </span><br />\nJoseph Greger is the Small Business Program Manager and is located at DCAA Headquarters in Fort Belvoir\, Va. In this capacity\, he serves as the program manager and audit expert for the small business program with the responsibility to provide assistance\, consultation\, and internal control with regard to audit requirements and their application to small businesses.</em>
LOCATION:Virtual event
UID:e.2112.11935
SEQUENCE:3
DTSTAMP:20260421T150105Z
URL:https://cm.hsvchamber.org/events/details/2021-sbdc-dcaa-accounting-systems-requirements-11935
END:VEVENT

END:VCALENDAR
