BEGIN:VCALENDAR
VERSION:2.0
PRODID:-//ChamberMaster//Event Calendar 2.0//EN
METHOD:PUBLISH
X-PUBLISHED-TTL:P3D
REFRESH-INTERVAL:P3D
CALSCALE:GREGORIAN
BEGIN:VEVENT
DTSTART:20210213T180000Z
DTEND:20210213T193000Z
X-MICROSOFT-CDO-ALLDAYEVENT:FALSE
SUMMARY:2021 North Alabama Virtual Automotive Manufacturing Hiring Event (Feb 13)
DESCRIPTION:Job seekers -- join ASmartPlace\, Mazda Toyota Manufacturing\, and other automotive manufacturers and suppliers for a virtual Automotive Manufacturing Hiring Event. Companies are hiring\, and this is a great opportunity to start a new career.
X-ALT-DESC;FMTTYPE=text/html:<br />\n<span style="font-size:16px\;">Job seekers -- join ASmartPlace\, Mazda Toyota Manufacturing\, and other automotive manufacturers and suppliers for a virtual Automotive Manufacturing Hiring Event. Companies are hiring\, and this is a great opportunity to start a new career.</span>
LOCATION:Virtual event. Job seekers\, please use the link below.
UID:e.2112.11939
SEQUENCE:3
DTSTAMP:20260421T152746Z
URL:https://cm.hsvchamber.org/events/details/2021-north-alabama-virtual-automotive-manufacturing-hiring-event-feb-13-11939
END:VEVENT

END:VCALENDAR
