BEGIN:VCALENDAR
VERSION:2.0
PRODID:-//ChamberMaster//Event Calendar 2.0//EN
METHOD:PUBLISH
X-PUBLISHED-TTL:P3D
REFRESH-INTERVAL:P3D
CALSCALE:GREGORIAN
BEGIN:VEVENT
DTSTART:20210223T140000Z
DTEND:20210223T153000Z
X-MICROSOFT-CDO-ALLDAYEVENT:FALSE
SUMMARY:2021 Networking - Virtual Breakfast & Biz (Feb)
DESCRIPTION:Our virtual Breakfast & Biz is an excellent way to network in a facilitated\, structured environment right from your home. Individuals are placed in groups of 4-6 and are given one minute to share their organization's benefits and services with the group.\n\n \n\nGroups will rotate at least five times during the event\, giving attendees a tremendous opportunity to initiate new business contacts in a short period of time.\n\n \n\nGet your pen and paper ready to exchange information!
X-ALT-DESC;FMTTYPE=text/html:<br />\n<span style="font-size:16px\;">Our virtual <strong>Breakfast &amp\; Biz</strong> is an excellent way to network in a facilitated\, structured environment right from your home. Individuals are placed in groups of 4-6 and are given one minute to share their organization&#39\;s benefits and services with the group.<br />\n&nbsp\;<br />\nGroups will rotate at least five times during the event\, giving attendees a tremendous opportunity to initiate new business contacts in a short period of time.<br />\n&nbsp\;<br />\nGet your pen and paper ready to exchange information!</span>
LOCATION:A Zoom link will be sent via email the day before the event.
UID:e.2112.11009
SEQUENCE:3
DTSTAMP:20260421T150544Z
URL:https://cm.hsvchamber.org/events/details/2021-networking-virtual-breakfast-biz-feb-11009
END:VEVENT

END:VCALENDAR
