BEGIN:VCALENDAR
VERSION:2.0
PRODID:-//ChamberMaster//Event Calendar 2.0//EN
METHOD:PUBLISH
X-PUBLISHED-TTL:P3D
REFRESH-INTERVAL:P3D
CALSCALE:GREGORIAN
BEGIN:VEVENT
DTSTART:20210309T170000Z
DTEND:20210309T183000Z
X-MICROSOFT-CDO-ALLDAYEVENT:FALSE
SUMMARY:2021 Is Your Website an Effective Sales Tool?
DESCRIPTION:The internet is essential for businesses to attract new business and promote your products and services. This session focuses on marketing websites to maximize results   helping companies drive more traffic to their websites\, generate more leads\, and convert more of those leads into sales.\n\n\n\nSpeakers:\n\nJohn Allen & Philip Busk\n\nAd4!\, LLC
X-ALT-DESC;FMTTYPE=text/html:<br />\n<span style="font-size:16px\;">The internet is essential for businesses to attract new business and promote your products and services. This session focuses on marketing websites to maximize results &ndash\; helping companies drive more traffic to their websites\, generate more leads\, and convert more of those leads into sales.</span><br />\n<br />\n<span style="font-size:14px\;"><em>Speakers:<br />\n<span style="font-size:16px\;"><strong>John Allen</strong> &amp\; <strong>Philip Busk</strong></span><br />\nAd4!\, LLC</em></span>
LOCATION:Zoom link will be sent the day before the event.
UID:e.2112.10911
SEQUENCE:3
DTSTAMP:20260421T133048Z
URL:https://cm.hsvchamber.org/events/details/2021-is-your-website-an-effective-sales-tool-10911
END:VEVENT

END:VCALENDAR
