BEGIN:VCALENDAR
VERSION:2.0
PRODID:-//ChamberMaster//Event Calendar 2.0//EN
METHOD:PUBLISH
X-PUBLISHED-TTL:P3D
REFRESH-INTERVAL:P3D
CALSCALE:GREGORIAN
BEGIN:VEVENT
DTSTART:20210309T160000Z
DTEND:20210309T180000Z
X-MICROSOFT-CDO-ALLDAYEVENT:FALSE
SUMMARY:2021 Excel: Pivot Tables
DESCRIPTION:Join us for this virtual class on Excel Pivot Tables which allow the user to make smaller\, easy-to-decipher tables from larger tables which focus on specific information. This is a hands-on workshop\, so we suggest that you be able to utilize Excel as well as view the virtual class.\n\n \n\nWorkshop includes:\n\n	What pivot tables are and how to create them\n	Basic filtering and how filtering enhances pivot tables\n	Formatting pivot tables\n	Creating pivot charts\n\n\n\nPresenter:\n\nAnthony Hale\, Technology Training Center Coordinator\n\nHuntsville/Madison County Public Library
X-ALT-DESC;FMTTYPE=text/html:<br />\n<span style="font-size:16px\;">Join us for this virtual class on Excel Pivot Tables which allow the user to make smaller\, easy-to-decipher tables from larger tables which focus on specific information. This is a hands-on workshop\, so we suggest that you be able to utilize Excel as well as view the virtual class.<br />\n&nbsp\;<br />\nWorkshop includes:</span>\n<ul>\n	<li><span style="font-size: 16px\;">What pivot tables are and how to create them</span></li>\n	<li><span style="font-size: 16px\;">Basic filtering and how filtering enhances pivot tables</span></li>\n	<li><span style="font-size: 16px\;">Formatting pivot tables</span></li>\n	<li><span style="font-size: 16px\;">Creating pivot charts</span></li>\n</ul>\n<br />\n<span style="font-size:16px\;"><span style="font-size:16px\;"><span style="font-size:16px\;"><span style="font-size:14px\;"><em><span style="font-size:16px\;">Presenter:</span></em></span></span></span></span><br />\n<span style="font-size:14px\;"><em><span style="font-size:16px\;"><strong>Anthony Hale</strong>\,</span>&nbsp\;Technology Training Center Coordinator<br />\nHuntsville/Madison County Public Library</em></span>
LOCATION:Zoom registration instructions will be emailed to you one day before the event.
UID:e.2112.10896
SEQUENCE:3
DTSTAMP:20260421T130941Z
URL:https://cm.hsvchamber.org/events/details/2021-excel-pivot-tables-10896
END:VEVENT

END:VCALENDAR
