BEGIN:VCALENDAR
VERSION:2.0
PRODID:-//ChamberMaster//Event Calendar 2.0//EN
METHOD:PUBLISH
X-PUBLISHED-TTL:P3D
REFRESH-INTERVAL:P3D
CALSCALE:GREGORIAN
BEGIN:VEVENT
DTSTART:20210504T150000Z
DTEND:20210504T160000Z
X-MICROSOFT-CDO-ALLDAYEVENT:FALSE
SUMMARY:2021 Cyber Insurance for the Defense Industry: Some Legal Issues
DESCRIPTION:Cyber risks are growing for defense contractors. But cyber insurance products are new and unfamiliar to many. This talk will cover some of the latest legal issues surrounding cyber insurance for the DoD supply chain.\n\n\n\nTopics may include:\n\n	Cybersecurity requirements (CMMC/NIST)\n	Cyber insurance as an allowable cost\n	War exclusions of state-sponsored cyberattacks\n	The Terrorism Risk Insurance Program as it relates to cyberattacks\n\n\n\nPresenters: \n\nAndrew Tuggle & Heather Wright\n\nBradley Arant Boult Cummings LLP
X-ALT-DESC;FMTTYPE=text/html:<br />\n<span style="font-size:16px\;">Cyber risks are growing for defense contractors. But cyber insurance products are new and unfamiliar to many. This talk will cover some of the latest legal issues surrounding cyber insurance for the DoD supply chain.<br />\n<br />\nTopics may include:</span>\n<ol>\n	<li><span style="font-size:16px\;">Cybersecurity requirements (CMMC/NIST)</span></li>\n	<li><span style="font-size:16px\;">Cyber insurance as an allowable cost</span></li>\n	<li><span style="font-size:16px\;">War exclusions of state-sponsored cyberattacks</span></li>\n	<li><span style="font-size:16px\;">The Terrorism Risk Insurance Program as it relates to cyberattacks</span></li>\n</ol>\n<br />\n<span style="font-size:16px\;"><em><span style="font-size:14px\;">Presenters: </span><br />\n<strong>Andrew Tuggle</strong> &amp\; <strong>Heather Wright</strong><br />\n<span style="font-size:14px\;">Bradley Arant Boult Cummings LLP</span></em></span>
LOCATION:Virtual event
UID:e.2112.10915
SEQUENCE:3
DTSTAMP:20260421T101527Z
URL:https://cm.hsvchamber.org/events/details/2021-cyber-insurance-for-the-defense-industry-some-legal-issues-10915
END:VEVENT

END:VCALENDAR
