BEGIN:VCALENDAR
VERSION:2.0
PRODID:-//ChamberMaster//Event Calendar 2.0//EN
METHOD:PUBLISH
X-PUBLISHED-TTL:P3D
REFRESH-INTERVAL:P3D
CALSCALE:GREGORIAN
BEGIN:VEVENT
DTSTART:20210511T160000Z
DTEND:20210511T180000Z
X-MICROSOFT-CDO-ALLDAYEVENT:FALSE
SUMMARY:2021 CRP Food Truck Fest (May)
DESCRIPTION:Looking for a fun way to spend your lunch break?\n\nCome out to 990 Explorer Boulevard to enjoy local Huntsville food trucks! We provide a variety of options to satisfy all of your food cravings   we also include a dessert option for your sweet tooth!\n\n \n\nThis year's Food Truck Fests will look a little different to ensure everyone's safety. Here are some of the changes you can expect:\n\n	Limited seating\, 6 feet apart\n	Distancing markers when waiting in line\n	Hand sanitizing stations\n	Seats will be wiped down after each use\n	Trucks will be separated further apart\n	Masks are required when you are not eating\n	Grab-and-go is encouraged\n\nTrucks joining us in May are Highway Kabobery\, Comin' in Hot\, Mac & Snacks\, and Nothing Bundt Cakes.
X-ALT-DESC;FMTTYPE=text/html:<br />\n<span style="font-size:16px\;"><span style="font-size:22px\;"><span style="color:#df4d00\;">Looking for a fun way to spend your lunch break?</span></span><br />\nCome out to 990 Explorer Boulevard to enjoy local Huntsville food trucks! We provide a variety of options to satisfy all of your food cravings &ndash\; we also include a dessert option for your sweet tooth!<br />\n&nbsp\;<br />\nThis year&rsquo\;s <strong>Food Truck Fests</strong> will look a little different to ensure everyone&rsquo\;s safety. Here are some of the changes you can expect:</span>\n<ul>\n	<li><span style="font-size:16px\;">Limited seating\, 6 feet apart</span></li>\n	<li><span style="font-size:16px\;">Distancing markers when waiting in line</span></li>\n	<li><span style="font-size:16px\;">Hand sanitizing stations</span></li>\n	<li><span style="font-size:16px\;">Seats will be wiped down after each use</span></li>\n	<li><span style="font-size:16px\;">Trucks will be separated further apart</span></li>\n	<li><span style="font-size:16px\;">Masks are required when you are not eating</span></li>\n	<li><span style="font-size:16px\;">Grab-and-go is encouraged</span></li>\n</ul>\n<span style="font-size:16px\;">Trucks joining us in May are Highway Kabobery\, Comin&rsquo\; in Hot\, Mac &amp\; Snacks\, and Nothing Bundt Cakes.</span>
LOCATION:Intrepid
UID:e.2112.10832
SEQUENCE:3
DTSTAMP:20260421T143721Z
URL:https://cm.hsvchamber.org/events/details/2021-crp-food-truck-fest-may-10832
END:VEVENT

END:VCALENDAR
