BEGIN:VCALENDAR
VERSION:2.0
PRODID:-//ChamberMaster//Event Calendar 2.0//EN
METHOD:PUBLISH
X-PUBLISHED-TTL:P3D
REFRESH-INTERVAL:P3D
CALSCALE:GREGORIAN
BEGIN:VEVENT
DTSTART:20210622T160000Z
DTEND:20210622T180000Z
X-MICROSOFT-CDO-ALLDAYEVENT:FALSE
SUMMARY:2021 CRP Food Truck Fest (June)
DESCRIPTION:NEW DATE!  \n\n\n\nLooking for a fun way to spend your lunch break?\n\nCome out to 990 Explorer Boulevard to enjoy local Huntsville food trucks! We provide a variety of options to satisfy all of your food cravings   we also include a dessert option for your sweet tooth!\n\n \n\nThis year's Food Truck Fests will look a little different to ensure everyone's safety. Here are some of the changes you can expect:\n\n	Distancing markers when waiting in line\n	Hand sanitizing stations\n	Seats will be wiped down after each use\n	Trucks will be separated further apart\n\nTrucks this month will include Highway Kabobery\, Manic Organic\, Teresita's Tamales\, and Regale Cupcakery.
X-ALT-DESC;FMTTYPE=text/html:<br />\n<span style="color:#df4d00\;"><strong><span style="font-size:18px\;"><span style="background-color:#f8d861\;">&nbsp\;NEW DATE!&nbsp\;</span></span></strong></span><span style="color:#B22222\;"><strong><span style="font-size:18px\;"><span style="background-color:#f8d861\;"> </span></span></strong></span><br />\n<br />\n<span style="font-size:16px\;"><span style="color:#df4d00\;"><span style="font-size:22px\;">Looking for a fun way to spend your lunch break?</span></span><br />\nCome out to 990 Explorer Boulevard to enjoy local Huntsville food trucks! We provide a variety of options to satisfy all of your food cravings &ndash\; we also include a dessert option for your sweet tooth!<br />\n&nbsp\;<br />\nThis year&rsquo\;s <strong>Food Truck Fests</strong> will look a little different to ensure everyone&rsquo\;s safety. Here are some of the changes you can expect:</span>\n<ul>\n	<li><span style="font-size:16px\;">Distancing markers when waiting in line</span></li>\n	<li><span style="font-size:16px\;">Hand sanitizing stations</span></li>\n	<li><span style="font-size:16px\;">Seats will be wiped down after each use</span></li>\n	<li><span style="font-size:16px\;">Trucks will be separated further apart</span></li>\n</ul>\n<span style="font-size:16px\;">Trucks this month will include Highway Kabobery\, Manic Organic\, Teresita&rsquo\;s Tamales\, and Regale Cupcakery.</span>
LOCATION:Intrepid
UID:e.2112.10833
SEQUENCE:3
DTSTAMP:20260419T154751Z
URL:https://cm.hsvchamber.org/events/details/2021-crp-food-truck-fest-june-10833
END:VEVENT

END:VCALENDAR
