BEGIN:VCALENDAR
VERSION:2.0
PRODID:-//ChamberMaster//Event Calendar 2.0//EN
METHOD:PUBLISH
X-PUBLISHED-TTL:P3D
REFRESH-INTERVAL:P3D
CALSCALE:GREGORIAN
BEGIN:VEVENT
DTSTART:20210223T160000Z
DTEND:20210223T180000Z
X-MICROSOFT-CDO-ALLDAYEVENT:FALSE
SUMMARY:2021 Basic Excel For Small Business: Part 3
DESCRIPTION:Learn how to better utilize Microsoft Excel for your small business. This is a hands-on workshop\, so we suggest that you be able to utilize Excel as well as view the virtual class. You do not need to have taken Part 2 before signing up for Part 3.\n\n \n\nWorkshop includes:\n\n	Using functions\n	Creating charts\n	Using formulas\n\n\n\nPresenter:\n\nAnthony Hale\, Computer Training Center Coordinator\n\nHuntsville/Madison County Public Library
X-ALT-DESC;FMTTYPE=text/html:<br />\n<span style="font-size:16px\;">Learn how to better utilize Microsoft Excel for your small business. This is a hands-on workshop\, so we suggest that you be able to utilize Excel as well as view the virtual class. You do not need to have taken Part 2 before signing up for Part 3.<br />\n&nbsp\;<br />\nWorkshop includes:</span>\n<ul font-size:="" style="padding: 0px 40px\; font-family: sans-serif\, Arial\, Verdana\, " trebuchet="">\n	<li><span style="font-size: 16px\;">Using functions</span></li>\n	<li><span style="font-size: 16px\;">Creating charts</span></li>\n	<li><span style="font-size: 16px\;">Using formulas</span></li>\n</ul>\n<br />\n<span style="font-size:14px\;"><em><span style="font-size:16px\;">Presenter:<br />\n<strong>Anthony Hale</strong>\,</span>&nbsp\;Computer Training Center Coordinator<br />\nHuntsville/Madison County Public Library</em></span>
LOCATION:Zoom registration instructions will be emailed to you one day before the event.
UID:e.2112.10898
SEQUENCE:3
DTSTAMP:20260421T145126Z
URL:https://cm.hsvchamber.org/events/details/2021-basic-excel-for-small-business-part-3-10898
END:VEVENT

END:VCALENDAR
