BEGIN:VCALENDAR
VERSION:2.0
PRODID:-//ChamberMaster//Event Calendar 2.0//EN
METHOD:PUBLISH
X-PUBLISHED-TTL:P3D
REFRESH-INTERVAL:P3D
CALSCALE:GREGORIAN
BEGIN:VEVENT
DTSTART:20210223T180000Z
DTEND:20210223T200000Z
X-MICROSOFT-CDO-ALLDAYEVENT:FALSE
SUMMARY:2021 ASmartPlace on the Road to North Alabama
DESCRIPTION:We are taking ASmartPlace on the Road to the web! We will be hosting a virtual ASmartPlace on the Road recruiting event for students attending the colleges and universities in North Alabama. Students from UAH\, Athens State University\, Calhoun Community College\, Alabama A&M University\, Drake State\, Oakwood University\, and other students in north Alabama will be attending.\n\n\n\nCompanies: this is a great opportunity to showcase your company and job openings (both internships and full-time positions) to current students. Each company will have two minutes to give an elevator pitch about their company. Make sure to include jobs you are hiring for! We are limiting this event to 20 companies.\n\n\n\nEvent outline:\n\n	12 12:15 p.m.: Welcome and Huntsville Top 10 Presentation\n	12:15 1 p.m.: 20 Company Presentations\n	1 2 p.m.: Table Networking and Conversations\n\n\n\nAfter the webinar\, students who registered for the event will be emailed a one-page info sheet with information about Huntsville and the 20 companies that attend with contact information/links/company description.
X-ALT-DESC;FMTTYPE=text/html:<br />\n<span style="font-size:16px\;">We are taking <strong>ASmartPlace on the Road</strong> to the web! We will be hosting a virtual ASmartPlace on the Road recruiting event for students attending the colleges and universities in North Alabama. Students from UAH\, Athens State University\, Calhoun Community College\, Alabama A&amp\;M University\, Drake State\, Oakwood University\, and other students in north Alabama will be attending.<br />\n<br />\nCompanies: this is a great opportunity to showcase your company and job openings (both internships and full-time positions) to current students. Each company will have two minutes to give an elevator pitch about their company. Make sure to include jobs you are hiring for! We are limiting this event to 20 companies.<br />\n<br />\nEvent outline:</span>\n<ul>\n	<li><span style="font-size:16px\;">12&ndash\;12:15 p.m.: Welcome and Huntsville Top 10 Presentation</span></li>\n	<li><span style="font-size:16px\;">12:15&ndash\;1 p.m.: 20 Company Presentations</span></li>\n	<li><span style="font-size:16px\;">1&ndash\;2 p.m.: Table Networking and Conversations</span></li>\n</ul>\n<br />\n<span style="font-size:16px\;">After the webinar\, students who registered for the event will be emailed a one-page info sheet with information about Huntsville and the 20 companies that attend with contact information/links/company description. </span>
LOCATION:Remo virtual platform
UID:e.2112.11933
SEQUENCE:3
DTSTAMP:20260421T152638Z
URL:https://cm.hsvchamber.org/events/details/2021-asmartplace-on-the-road-to-north-alabama-11933
END:VEVENT

END:VCALENDAR
