BEGIN:VCALENDAR
VERSION:2.0
PRODID:-//ChamberMaster//Event Calendar 2.0//EN
METHOD:PUBLISH
X-PUBLISHED-TTL:P3D
REFRESH-INTERVAL:P3D
CALSCALE:GREGORIAN
BEGIN:VEVENT
DTSTART:20210224T170000Z
DTEND:20210224T183000Z
X-MICROSOFT-CDO-ALLDAYEVENT:FALSE
SUMMARY:2021 Ask the Experts Lunch & Learn (Feb. 24)
DESCRIPTION:David Jarmon and Jay Town with Gray Analytics will discuss cybersecurity issues business owners face as employees are still working remotely\, as well as CMMC regulations.\n\n \n\nFor more about the speakers\, click HERE.\n\n \n\nWho should attend? Any business that has remote employees and cybersecurity concerns with an emphasis on government contractors.
X-ALT-DESC;FMTTYPE=text/html:<br />\n<span style="font-size:16px\;">David Jarmon and Jay Town with Gray Analytics will discuss cybersecurity issues business owners face as employees are still working remotely\, as well as CMMC regulations.<br />\n&nbsp\;<br />\nFor more about the speakers\, click <a href="https://www.grayanalytics.com/about/"><strong>HERE</strong></a>.<br />\n&nbsp\;<br />\nWho should attend? Any business that has remote employees and cybersecurity concerns with an emphasis on government contractors.</span>
LOCATION:Virtual event. Registration is required.
UID:e.2112.10904
SEQUENCE:3
DTSTAMP:20260421T162555Z
URL:https://cm.hsvchamber.org/events/details/2021-ask-the-experts-lunch-learn-feb-24-10904
END:VEVENT

END:VCALENDAR
