BEGIN:VCALENDAR
VERSION:2.0
PRODID:-//ChamberMaster//Event Calendar 2.0//EN
METHOD:PUBLISH
X-PUBLISHED-TTL:P3D
REFRESH-INTERVAL:P3D
CALSCALE:GREGORIAN
BEGIN:VEVENT
DTSTART:20210218T170000Z
DTEND:20210218T183000Z
X-MICROSOFT-CDO-ALLDAYEVENT:FALSE
SUMMARY:2021 Ask the Experts Lunch & Learn (Feb. 18)
DESCRIPTION:Robert Lockwood from Wilmer & Lee\, P.A. will discuss business and employment legal issues including the Top 5 issues confronting employers in 2021 and how President Biden's executive orders and regulatory changes will impact businesses.\n\n\n\nHave legal questions? Send us an email prior to the event\, and the Wilmer & Lee team will work to get you an answer. All questions will be anonymous.\n\n\n\nClick HERE to learn more about our speaker.
X-ALT-DESC;FMTTYPE=text/html:<p><br />\n<span style="font-size:16px\;">Robert Lockwood from&nbsp\;Wilmer &amp\; Lee\, P.A. will discuss business and employment legal issues including the Top 5 issues confronting employers in 2021 and how President Biden&#39\;s executive orders and regulatory changes will impact businesses.</span><br />\n<br />\n<span style="font-size:16px\;">Have legal questions? Send us an email prior to the event\, and the Wilmer &amp\; Lee team will work to get you an answer.&nbsp\;All questions will be anonymous.</span><br />\n<br />\n<span style="font-size:16px\;">Click <strong><a href="https://wilmerandlee.com/robert-c-lockwood">HERE</a> </strong>to learn more about our speaker.</span></p>\n
LOCATION:Zoom registration instructions will be emailed to you one day before the event.
UID:e.2112.10905
SEQUENCE:3
DTSTAMP:20260421T145303Z
URL:https://cm.hsvchamber.org/events/details/2021-ask-the-experts-lunch-learn-feb-18-10905
END:VEVENT

END:VCALENDAR
