BEGIN:VCALENDAR
VERSION:2.0
PRODID:-//ChamberMaster//Event Calendar 2.0//EN
METHOD:PUBLISH
X-PUBLISHED-TTL:P3D
REFRESH-INTERVAL:P3D
CALSCALE:GREGORIAN
BEGIN:VEVENT
DTSTART:20210620T180000Z
DTEND:20210620T220000Z
X-MICROSOFT-CDO-ALLDAYEVENT:FALSE
SUMMARY:2021 Armed Forces Celebration: Gold Star Family Reception
DESCRIPTION:The Chamber will host a reception for Gold Star Families* at the Trash Pandas game on June 20. We thank the Presenting Sponsor\, Lockheed Martin Corporation\, and the Gold Sponsor\, CALIBRE Systems\, for your support of this event as we honor these families.\n\n \n\nThis reception for Gold Star Families is by invitation only\, and Redstone Arsenal has worked to invite families.\n\n \n\nThis is one of several events we are hosting during the 2021 Armed Forces Celebration\, marking Redstone Arsenal's 80 Years Supporting Our Nation. Please check Facebook and hsvchamber.org for other events intended for the public.\n\n\n\n*Gold Star Families are the immediate family members of a fallen service member who died in the line of duty of military service.
X-ALT-DESC;FMTTYPE=text/html:<span style="font-size:16px\;">The Chamber will host a reception for Gold Star Families* at the Trash Pandas game on June 20. We thank the Presenting Sponsor\, Lockheed Martin Corporation\, and the Gold Sponsor\, CALIBRE Systems\, for your support of this event as we honor these families.<br />\n&nbsp\;<br />\nThis reception for Gold Star Families is <strong>by invitation only</strong>\, and Redstone Arsenal has worked to invite families.<br />\n&nbsp\;<br />\nThis is one of several events we are hosting during the <strong>2021 Armed Forces Celebration</strong>\, marking Redstone Arsenal&rsquo\;s 80 Years Supporting Our Nation. Please check <a href="https://www.facebook.com/HuntsvilleAlabama">Facebook </a>and <a href="https://hsvchamber.org/">hsvchamber</a><a href="https://hsvchamber.org">.org</a> for other events intended for the public.</span><br />\n<br />\n<span style="font-size:14px\;"><em>*Gold Star Families are the immediate family members of a fallen service member who died in the line of duty of military service.</em></span>
LOCATION:
UID:e.2112.12323
SEQUENCE:3
DTSTAMP:20260421T114757Z
URL:https://cm.hsvchamber.org/events/details/2021-armed-forces-celebration-gold-star-family-reception-12323
END:VEVENT

END:VCALENDAR
