BEGIN:VCALENDAR
VERSION:2.0
PRODID:-//ChamberMaster//Event Calendar 2.0//EN
METHOD:PUBLISH
X-PUBLISHED-TTL:P3D
REFRESH-INTERVAL:P3D
CALSCALE:GREGORIAN
BEGIN:VEVENT
DTSTART:20210603T153000Z
DTEND:20210603T163000Z
X-MICROSOFT-CDO-ALLDAYEVENT:FALSE
SUMMARY:2021 Alabama Update featuring Governor Kay Ivey
DESCRIPTION:We're excited to bring Alabama Governor Kay Ivey virtually to the Chamber's membership to update local business and civic leaders on key state issues.\n\n\n\nThe Governor will have a lot to talk about.  The pandemic seems to be subsiding.  The Alabama Legislature has wrapped up its 2021 Regular Session.  We look forward to the Governor's review of the year that's passed and her outlook for the year ahead.  \n\n\n\nThrough this event\, the Chamber is pleased to help foster communication between Gov. Ivey and regional businesses\, as we help north Alabama continue to grow.
X-ALT-DESC;FMTTYPE=text/html:<span style="font-size:16px\;">We&rsquo\;re excited to bring Alabama Governor Kay Ivey <em>virtually </em>to the Chamber&#39\;s membership to update </span><span style="font-size:16px\;">local business and civic leader</span><span style="font-size:16px\;">s on key state issues.<br />\n<br />\nThe Governor will have a lot to talk about.&nbsp\; The pandemic seems to be subsiding.&nbsp\; The Alabama Legislature has wrapped up its 2021 Regular Session.&nbsp\; We look forward to the Governor&#39\;s review of the year that&#39\;s passed and her outlook for the year ahead. &nbsp\;<br />\n<br />\nThrough this event\, the Chamber is pleased to help foster communication between Gov. Ivey and regional businesses\, as we help north Alabama continue to grow.</span>
LOCATION:Virtual event
UID:e.2112.10843
SEQUENCE:3
DTSTAMP:20260421T114713Z
URL:https://cm.hsvchamber.org/events/details/2021-alabama-update-featuring-governor-kay-ivey-10843
END:VEVENT

END:VCALENDAR
