BEGIN:VCALENDAR
VERSION:2.0
PRODID:-//ChamberMaster//Event Calendar 2.0//EN
METHOD:PUBLISH
X-PUBLISHED-TTL:P3D
REFRESH-INTERVAL:P3D
CALSCALE:GREGORIAN
BEGIN:VEVENT
DTSTART:20200806T190000Z
DTEND:20200806T200000Z
X-MICROSOFT-CDO-ALLDAYEVENT:FALSE
SUMMARY:2020 Washington Update featuring Congressman Brooks
DESCRIPTION:This annual event provides Congressman Mo Brooks with an opportunity to update the business community on critical issues facing our community. His address will typically include his views on the past year's progress on issues which impact our region and his outlook for the year ahead.\n\n\n\nThrough this update\, the Chamber facilitates communication between Congress and large and small businesses.
X-ALT-DESC;FMTTYPE=text/html:<br />\n<span style="font-size:16px\;">This annual event provides Congressman Mo Brooks with an opportunity to update the business community on critical issues facing our community. His address will typically include his views on the past year&#39\;s progress on issues which impact our region and his outlook for the year ahead.<br />\n<br />\nThrough this update\, the Chamber facilitates communication between Congress and large and small businesses.</span><br />\n<br />\n<br />\n&nbsp\;
LOCATION:Virtual / Live-Stream
UID:e.2112.8464
SEQUENCE:3
DTSTAMP:20260421T210412Z
URL:https://cm.hsvchamber.org/events/details/2020-washington-update-featuring-congressman-brooks-8464
END:VEVENT

END:VCALENDAR
