BEGIN:VCALENDAR
VERSION:2.0
PRODID:-//ChamberMaster//Event Calendar 2.0//EN
METHOD:PUBLISH
X-PUBLISHED-TTL:P3D
REFRESH-INTERVAL:P3D
CALSCALE:GREGORIAN
BEGIN:VEVENT
DTSTART:20190620T150000Z
DTEND:20190620T170000Z
X-MICROSOFT-CDO-ALLDAYEVENT:FALSE
SUMMARY:2019 Google Slides vs. Microsoft PowerPoint
DESCRIPTION:Interested in utilizing Google Slides or Microsoft PowerPoint for your Small Business? We've got you covered!\n\n\n\nThis workshop will explore how you can take advantage of each program to collaborate with others and create beautiful\, professional presentations.\n\n\n\nTopics will include:\n\n	Creating and Editing Slides\n	Sharing Files\n	Exporting Files to Microsoft PowerPoint\n\n      ...and much more!\n\n\n\n\n\nPresenter:\n\nAnthony Hale\, Computer Training Center Coordinator\n\nHuntsville/Madison County Public Library
X-ALT-DESC;FMTTYPE=text/html:<br />\n<span style="font-size: 16px\;">Interested in utilizing Google Slides or Microsoft PowerPoint for your Small Business? We&#39\;ve got you covered!<br />\n<br />\nThis workshop will explore how you can take advantage of each program to collaborate with others and create beautiful\, professional presentations.<br />\n<br />\nTopics will include:</span>\n<ul>\n	<li><span style="font-size: 16px\;">Creating and Editing S</span>l<span style="font-size: 16px\;">ides</span></li>\n	<li><span style="font-size: 16px\;">Sharing Files</span></li>\n	<li><span style="font-size: 16px\;">Exporting Files to Microsoft PowerPoint</span></li>\n</ul>\n<span style="font-size: 16px\;">&nbsp\; &nbsp\; &nbsp\; ...and much more!<br />\n<br />\n<br />\n<em>Presenter:<br />\n<strong>Anthony Hale</strong>\, Computer Training Center Coordinator<br />\nHuntsville/Madison County Public Library<br />\n&nbsp\;</em></span><br />\n&nbsp\;
LOCATION:Toyota Training Room 3rd floor of the Chamber 225 Church St NW Huntsville\, AL 35801
UID:e.2112.9584
SEQUENCE:3
DTSTAMP:20260422T020148Z
URL:https://cm.hsvchamber.org/events/details/2019-google-slides-vs-microsoft-powerpoint-9584
END:VEVENT

END:VCALENDAR
