BEGIN:VCALENDAR
VERSION:2.0
PRODID:-//ChamberMaster//Event Calendar 2.0//EN
METHOD:PUBLISH
X-PUBLISHED-TTL:P3D
REFRESH-INTERVAL:P3D
CALSCALE:GREGORIAN
BEGIN:VEVENT
DTSTART:20181030T150000Z
DTEND:20181030T170000Z
X-MICROSOFT-CDO-ALLDAYEVENT:FALSE
SUMMARY:2018 Employee Nightmares (and How to Handle Them)
DESCRIPTION:Employee issues giving you a fright and keeping you up at night? Let Rocket City HR Consulting show you how to beat the boogeyman!\n\n \n\nIn this workshop you will:\n\n	Hear about "scary" employee scenarios you might face\n	Find out what YOU should do as an employer\n	Learn what you can (and CANNOT) say\n\n\n\nPresenter:\n\nStephanie Walsh\, SHRM-SCP\n\nHR Business Advisor\n\nRocket City HR Consulting
X-ALT-DESC;FMTTYPE=text/html:<br />\n<span style="font-size:16px\;">Employee issues giving you a fright and keeping you up at night? Let Rocket City HR Consulting show you how to beat the boogeyman!<br />\n&nbsp\;<br />\nIn this workshop you will:</span>\n<ul>\n	<li><span style="font-size:16px\;">Hear about &quot\;scary&quot\; employee scenarios you might face</span></li>\n	<li><span style="font-size:16px\;">Find out what YOU should do as an employer</span></li>\n	<li><span style="font-size:16px\;">Learn what you can (and CANNOT) say</span></li>\n</ul>\n<br />\n<span style="font-size:16px\;"><em>Presenter:<br />\n<span style="font-family: &quot\;Segoe UI&quot\;\, &quot\;Segoe WP&quot\;\, &quot\;Segoe UI WPC&quot\;\, Tahoma\, Arial\, sans-serif\;"><strong>Stephanie Walsh</strong>\, SHRM-SCP</span><br style="color: rgb(33\, 33\, 33)\; font-family: &quot\;Segoe UI&quot\;\, &quot\;Segoe WP&quot\;\, &quot\;Segoe UI WPC&quot\;\, Tahoma\, Arial\, sans-serif\; font-size: 13.3333px\;" />\n<span style="font-family: &quot\;Segoe UI&quot\;\, &quot\;Segoe WP&quot\;\, &quot\;Segoe UI WPC&quot\;\, Tahoma\, Arial\, sans-serif\;">HR Business Advisor</span><br style="color: rgb(33\, 33\, 33)\; font-family: &quot\;Segoe UI&quot\;\, &quot\;Segoe WP&quot\;\, &quot\;Segoe UI WPC&quot\;\, Tahoma\, Arial\, sans-serif\; font-size: 13.3333px\;" />\n<span style="font-family: &quot\;Segoe UI&quot\;\, &quot\;Segoe WP&quot\;\, &quot\;Segoe UI WPC&quot\;\, Tahoma\, Arial\, sans-serif\;">Rocket City HR Consulting</span></em></span><br style="color: rgb(33\, 33\, 33)\; font-family: &quot\;Segoe UI&quot\;\, &quot\;Segoe WP&quot\;\, &quot\;Segoe UI WPC&quot\;\, Tahoma\, Arial\, sans-serif\; font-size: 13.3333px\;" />\n<br />\n&nbsp\;
LOCATION:Toyota Training Room 3rd floor of the Chamber 225 Church Street NW Huntsville\, AL 35801
UID:e.2112.7479
SEQUENCE:3
DTSTAMP:20260420T083324Z
URL:https://cm.hsvchamber.org/events/details/2018-employee-nightmares-and-how-to-handle-them-7479
END:VEVENT

END:VCALENDAR
