BEGIN:VCALENDAR
VERSION:2.0
PRODID:-//ChamberMaster//Event Calendar 2.0//EN
METHOD:PUBLISH
X-PUBLISHED-TTL:P3D
REFRESH-INTERVAL:P3D
CALSCALE:GREGORIAN
BEGIN:VEVENT
DTSTART:20151029T200000Z
DTEND:20151029T220000Z
X-MICROSOFT-CDO-ALLDAYEVENT:FALSE
SUMMARY:2015 Strategic Innovations - Networking with the Masses
DESCRIPTION:Networking by definition means different things to different people\, but what does it mean to you? Do you get the most out of a business networking event? Or\, do you think it's just for appearances\, obligation\, or duty? Social capital is serious business. Give Joe Copp\, Chamber of Commerce Emissary and successful networker\, two hours and he will show you how to get the most out of networking with the masses.\n\n\n\nTopics:\n\n\n	Effectively network beyond the booth \n	Network Planning and Implementation\n	Tips to help you connect with new faces\n	Develop networking goals and strategies \n	Sparks business growth and increases your ROI\n	Network follow up and positioning\n\n  \n\nWho Should Attend:\n\n\n	Entrepreneurs seeking business growth\n	Individuals self-promoting or representing a business\n	Businesses looking to increase revenue\n	Businesses with Stagnant Advertising Campaigns\n	Consultant  approaches that increase company identity\n	Basic networking for new sales and staff members\n\n  \n\nThis session is part of our Strategic Innovations platform\, part of our Pathways to Success initiative.
X-ALT-DESC;FMTTYPE=text/html:<br />\n<span style="font-size:14px\;"><span style="font-family: arial\;"><span style="border: 1pt none windowtext\; padding: 0in\; background: white none repeat scroll 0% 0%\;"><span style="color: rgb(49\, 52\, 57)\;">Networking by definition means different things to different people\, but what&nbsp\;does it mean to you? Do you get the most out of a business networking event? Or\, do you think it&#39\;s just for appearances\, obligation\, or duty? Social capital is serious business. Give Joe Copp\, Chamber of Commerce Emissary and successful networker\, two hours and he will show you how to get the most out of networking with the masses<strong><em>.</em></strong><br />\n<br />\nTopics:</span></span></span></span>\n\n<ul>\n	<li style="margin-bottom:.0001pt\;background:white\;vertical-align:baseline\;"><span style="font-size:14px\;"><span style="font-family: arial\;"><span style="border: 1pt none windowtext\; padding: 0in\;"><span style="color: rgb(49\, 52\, 57)\;">Effectively network beyond the booth </span></span></span></span></li>\n	<li style="margin-bottom:.0001pt\;background:white\;vertical-align:baseline\;"><span style="font-size:14px\;"><span style="font-family: arial\;"><span style="color: rgb(49\, 52\, 57)\;">Network Planning and Implementation</span></span></span></li>\n	<li style="margin-bottom:.0001pt\;background:white\;vertical-align:baseline\;"><span style="font-size:14px\;"><span style="font-family: arial\;"><span style="border: 1pt none windowtext\; padding: 0in\;"><span style="color: rgb(49\, 52\, 57)\;">Tips to help you connect with new faces</span></span></span></span></li>\n	<li style="margin-bottom:.0001pt\;background:white\;vertical-align:baseline\;"><span style="font-size:14px\;"><span style="font-family: arial\;"><span style="border: 1pt none windowtext\; padding: 0in\;"><span style="color: rgb(49\, 52\, 57)\;">Develop networking goals and strategies </span></span></span></span></li>\n	<li style="margin-bottom:.0001pt\;background:white\;vertical-align:baseline\;"><span style="font-size:14px\;"><span style="font-family: arial\;"><span style="border: 1pt none windowtext\; padding: 0in\;"><span style="color: rgb(49\, 52\, 57)\;">Sparks business growth and increases your ROI</span></span></span></span></li>\n	<li style="margin-bottom:.0001pt\;background:white\;vertical-align:baseline\;"><span style="font-size:14px\;"><span style="font-family: arial\;"><span style="border: 1pt none windowtext\; padding: 0in\;"><span style="color: rgb(49\, 52\, 57)\;">Network follow up and positioning</span></span></span></span></li>\n</ul>\n<span style="font-size:14px\;"><span style="font-family: arial\;"> &nbsp\;<br />\n<span style="border: 1pt none windowtext\; padding: 0in\; background: white none repeat scroll 0% 0%\;"><span style="color: rgb(49\, 52\, 57)\;">Who Should Attend:</span></span></span></span>\n\n<ul>\n	<li style="margin-bottom:.0001pt\;background:white\;vertical-align:baseline\;"><span style="font-size:14px\;"><span style="font-family: arial\;"><span style="border: 1pt none windowtext\; padding: 0in\;"><span style="color: rgb(49\, 52\, 57)\;">Entrepreneurs seeking business growth</span></span></span></span></li>\n	<li style="margin-bottom:.0001pt\;background:white\;vertical-align:baseline\;"><span style="font-size:14px\;"><span style="font-family: arial\;"><span style="border: 1pt none windowtext\; padding: 0in\;"><span style="color: rgb(49\, 52\, 57)\;">Individuals self-promoting or representing a business</span></span></span></span></li>\n	<li style="margin-bottom:.0001pt\;background:white\;vertical-align:baseline\;"><span style="font-size:14px\;"><span style="font-family: arial\;"><span style="border: 1pt none windowtext\; padding: 0in\;"><span style="color: rgb(49\, 52\, 57)\;">Businesses looking to increase revenue</span></span></span></span></li>\n	<li style="margin-bottom:.0001pt\;background:white\;vertical-align:baseline\;"><span style="font-size:14px\;"><span style="font-family: arial\;"><span style="border: 1pt none windowtext\; padding: 0in\;"><span style="color: rgb(49\, 52\, 57)\;">Businesses with Stagnant Advertising Campaigns</span></span></span></span></li>\n	<li style="margin-bottom:.0001pt\;background:white\;vertical-align:baseline\;"><span style="font-size:14px\;"><span style="font-family: arial\;"><span style="border: 1pt none windowtext\; padding: 0in\;"><span style="color: rgb(49\, 52\, 57)\;">Consultant&nbsp\; approaches that increase company identity</span></span></span></span></li>\n	<li style="margin-bottom:.0001pt\;background:white\;vertical-align:baseline\;"><span style="font-size:14px\;"><span style="font-family: arial\;"><span style="border: 1pt none windowtext\; padding: 0in\;"><span style="color: rgb(49\, 52\, 57)\;">Basic networking for new sales and staff members</span></span></span></span></li>\n</ul>\n<span style="font-size:14px\;"><span style="font-family: arial\;"> &nbsp\;<br />\n<span style="border: 1pt none windowtext\; padding: 0in\; background: white none repeat scroll 0% 0%\;"><span style="color: rgb(49\, 52\, 57)\;"><em>This session is part of our Strategic Innovations platform\, part of our&nbsp\;</em></span></span><a href="http://www.hsvchamber.org/index.php?option=com_content&amp\;view=article&amp\;id=461"><em><span style="border: 1pt none windowtext\; padding: 0in\; background: white none repeat scroll 0% 0%\; text-decoration: none\;"><span style="color: rgb(163\, 56\, 38)\;">Pathways to Success</span></span></em></a><em><span style="border: 1pt none windowtext\; padding: 0in\; background: white none repeat scroll 0% 0%\;"><span style="color: rgb(49\, 52\, 57)\;">&nbsp\;initiative.</span></span></em></span></span>
LOCATION:Toyota Alabama Training Room 3rd Floor of the Chamber 225 Church Street NW Huntsville\, AL 35801
UID:e.2112.5207
SEQUENCE:3
DTSTAMP:20260419T210215Z
URL:https://cm.hsvchamber.org/events/details/2015-strategic-innovations-networking-with-the-masses-10-29-2015-5207
END:VEVENT

END:VCALENDAR
