BEGIN:VCALENDAR
VERSION:2.0
PRODID:-//ChamberMaster//Event Calendar 2.0//EN
METHOD:PUBLISH
X-PUBLISHED-TTL:P3D
REFRESH-INTERVAL:P3D
CALSCALE:GREGORIAN
BEGIN:VEVENT
DTSTART:20151007T120000Z
DTEND:20151007T140000Z
X-MICROSOFT-CDO-ALLDAYEVENT:FALSE
SUMMARY:2015 Breakfast & Biz - October
DESCRIPTION:Breakfast & Biz is an excellent way to network in a facilitated\, structured environment. Individuals are placed in groups of 6-8 and are given one minute to share with the group\; their organization's benefits and services. Tables rotate at least five times during the event giving individuals a tremendous opportunity to initiate new business contacts in a short period of time. \n\n\n\nPlease make sure to bring plenty of business cards! We average 60-80 guests.
X-ALT-DESC;FMTTYPE=text/html:<br />\n<span style="font-size:14px\;"><span style="font-family:arial\;">Breakfast &amp\; Biz is an excellent way to network in a facilitated\, structured environment. Individuals are placed in groups of 6-8 and are given one minute to share with the group\; their organization&#39\;s benefits and services. Tables rotate at least five times during the event giving individuals a tremendous opportunity to initiate new business contacts in a short period of time.&nbsp\;<br />\n<br />\nPlease make sure to bring plenty of business cards! We average 60-80 guests.</span></span>
LOCATION:Chamber of Commerce 225 Church Street NW Huntsville\, AL 35801
UID:e.2112.4350
SEQUENCE:3
DTSTAMP:20260419T205652Z
URL:https://cm.hsvchamber.org/events/details/2015-breakfast-biz-october-10-07-2015-4350
END:VEVENT

END:VCALENDAR
