BEGIN:VCALENDAR
VERSION:2.0
PRODID:-//ChamberMaster//Event Calendar 2.0//EN
METHOD:PUBLISH
X-PUBLISHED-TTL:P3D
REFRESH-INTERVAL:P3D
CALSCALE:GREGORIAN
BEGIN:VEVENT
DTSTART:20151022T123000Z
DTEND:20151022T140000Z
X-MICROSOFT-CDO-ALLDAYEVENT:FALSE
SUMMARY:2015/2016 Strategic Innovations: HR Forum Series-Employee Recognition
DESCRIPTION:HR Develop People. Improve Performance.\n\n\n\nAre your employees constantly asking or behaving like they want to know\, "What's in it for me?" As an employer\, recognizing and rewarding employees can be one of the greatest HR challenges. However\, if done right\, recognizing employees can contribute significantly to the business bottom line. Mary Ila Ward\, Horizon Point Consulting\, a certified Senior Professional in Human Resources (SPHR) and a Global Career Development Facilitator (GCDF) and Career Development Facilitator (CDF) Instructor\, will focus on forward-thinking approaches to employee recognition that are seen in best places to work.  \n\n\n\nTo be discussed:\n\n\n	Understanding what employees really want out of work\n	How to recognize employees through innovative best practices\n	How recognition done right should benefit your business bottom-line\n\nFuture HR Forum Series topics:\n\n\n	Employees are Your Future: Growth & Development (December 3)\n	Investing in Your Employees: Tradition vs. Trends (February 25)\n	Transparency: How Far Should You Go? (April 28)\n	Talent: Trained Skill vs. Growing It (June 23)\n\n\nTop Cities for Employee Engagement\n\n\nBest Places to Work  2015 Winners
X-ALT-DESC;FMTTYPE=text/html:<div><br />\n<span style="font-size:14px\;"><span style="font-family:arial\;"><strong>HR Develop People. Improve Performance.</strong><br />\n<br />\nAre your employees constantly asking or behaving like they want to know\, &quot\;What&#39\;s in it for me?&quot\; As an employer\, recognizing and rewarding employees can be one of the greatest HR challenges. However\, if done right\, recognizing employees can contribute significantly to the business bottom line. <a href="http://www.horizonpointconsulting.com/about/book-mary-ila-to-speak">Mary Ila Ward</a>\, <a href="http://www.horizonpointconsulting.com/about">Horizon Point Consulting</a>\,&nbsp\;a certified Senior Professional in Human Resources (SPHR) and a Global Career Development Facilitator (GCDF) and Career Development Facilitator (CDF)&nbsp\;Instructor\, will focus on forward-thinking approaches to employee recognition that are seen in best places to work. &nbsp\;<br />\n<br />\n<u>To be discussed</u>:</span></span></div>\n\n<ul>\n	<li><span style="font-size:14px\;"><span style="font-family: arial\;">Understanding what employees really want out of work</span></span></li>\n	<li><span style="font-size:14px\;"><span style="font-family: arial\;">How to recognize employees through innovative best practices</span></span></li>\n	<li><span style="font-size:14px\;"><span style="font-family: arial\;">How recognition done right should benefit your business bottom-line</span></span></li>\n</ul>\n<span style="font-size:14px\;"><span style="font-family: arial\;"><u>Future <strong>HR Forum Series</strong> topics</u>:</span></span>\n\n<ul>\n	<li><span style="font-size:14px\;"><span style="font-family: arial\;">Employees are Your Future: Growth &amp\; Development (December 3)</span></span></li>\n	<li><span style="font-size:14px\;"><span style="font-family: arial\;">Investing in Your Employees: Tradition vs. Trends (February 25)</span></span></li>\n	<li><span style="font-size:14px\;"><span style="font-family: arial\;">Transparency: How Far Should You Go? (April 28)</span></span></li>\n	<li><span style="font-size:14px\;"><span style="font-family: arial\;">Talent: Trained Skill vs. Growing It (June 23)</span></span></li>\n</ul>\n\n<div><a href="http://www.forbes.com/sites/kathryndill/2015/05/06/the-top-cities-for-employee-engagement/" style="font-family: arial\; font-size: 14px\; line-height: 1.6\;">Top Cities for Employee Engagement</a></div>\n<br />\n<span style="font-size:14px\;"><span style="font-family: arial\;"><a href="http://www.hsvchamber.org/index.php?option=com_content&amp\;view=article&amp\;id=447">Best Places to Work<sup>&reg\;</sup> 2015 Winners</a></span></span><br />\n&nbsp\;
LOCATION:Toyota Alabama Training Room 3rd Floor of the Chamber 225 Church Street NW Huntsville\, AL 35801
UID:e.2112.2962
SEQUENCE:3
DTSTAMP:20260419T211416Z
URL:https://cm.hsvchamber.org/events/details/2015-2016-strategic-innovations-hr-forum-series-employee-recognition-10-22-2015-2962
END:VEVENT

END:VCALENDAR
